BEGIN:VCALENDAR
VERSION:2.0
PRODID:-//Central Baptist Church - ECPv6.15.20//NONSGML v1.0//EN
CALSCALE:GREGORIAN
METHOD:PUBLISH
X-WR-CALNAME:Central Baptist Church
X-ORIGINAL-URL:https://www.cbcwinfield.com
X-WR-CALDESC:Events for Central Baptist Church
REFRESH-INTERVAL;VALUE=DURATION:PT1H
X-Robots-Tag:noindex
X-PUBLISHED-TTL:PT1H
BEGIN:VTIMEZONE
TZID:America/Chicago
BEGIN:DAYLIGHT
TZOFFSETFROM:-0600
TZOFFSETTO:-0500
TZNAME:CDT
DTSTART:20200308T080000
END:DAYLIGHT
BEGIN:STANDARD
TZOFFSETFROM:-0500
TZOFFSETTO:-0600
TZNAME:CST
DTSTART:20201101T070000
END:STANDARD
BEGIN:DAYLIGHT
TZOFFSETFROM:-0600
TZOFFSETTO:-0500
TZNAME:CDT
DTSTART:20210314T080000
END:DAYLIGHT
BEGIN:STANDARD
TZOFFSETFROM:-0500
TZOFFSETTO:-0600
TZNAME:CST
DTSTART:20211107T070000
END:STANDARD
BEGIN:DAYLIGHT
TZOFFSETFROM:-0600
TZOFFSETTO:-0500
TZNAME:CDT
DTSTART:20220313T080000
END:DAYLIGHT
BEGIN:STANDARD
TZOFFSETFROM:-0500
TZOFFSETTO:-0600
TZNAME:CST
DTSTART:20221106T070000
END:STANDARD
BEGIN:DAYLIGHT
TZOFFSETFROM:-0600
TZOFFSETTO:-0500
TZNAME:CDT
DTSTART:20230312T080000
END:DAYLIGHT
BEGIN:STANDARD
TZOFFSETFROM:-0500
TZOFFSETTO:-0600
TZNAME:CST
DTSTART:20231105T070000
END:STANDARD
BEGIN:DAYLIGHT
TZOFFSETFROM:-0600
TZOFFSETTO:-0500
TZNAME:CDT
DTSTART:20240310T080000
END:DAYLIGHT
BEGIN:STANDARD
TZOFFSETFROM:-0500
TZOFFSETTO:-0600
TZNAME:CST
DTSTART:20241103T070000
END:STANDARD
END:VTIMEZONE
BEGIN:VEVENT
DTSTART;TZID=America/Chicago:20230619T130000
DTEND;TZID=America/Chicago:20230619T140000
DTSTAMP:20260423T145425
CREATED:20230628T031732Z
LAST-MODIFIED:20230628T031732Z
UID:10000566-1687179600-1687183200@www.cbcwinfield.com
SUMMARY:Adult Bible Study
DESCRIPTION:
URL:https://www.cbcwinfield.com/event/adult-bible-study-3/2023-06-19/
LOCATION:Central Baptist Church\, 904 Wheat Rd\, Winfield\, KS\, 67156\, United States
CATEGORIES:Education
ORGANIZER;CN="Central Baptist Church":MAILTO:office@cbcwinfield.com
END:VEVENT
BEGIN:VEVENT
DTSTART;TZID=America/Chicago:20230618T105000
DTEND;TZID=America/Chicago:20230618T115000
DTSTAMP:20260423T145425
CREATED:20230628T032028Z
LAST-MODIFIED:20230628T032029Z
UID:10001096-1687085400-1687089000@www.cbcwinfield.com
SUMMARY:Worship Service
DESCRIPTION:Join us every Sunday for worship! \nIn person at 904 Wheat Road in Winfield\, KS or on Facebook for our livestream!
URL:https://www.cbcwinfield.com/event/worship-service-2-2/2023-06-18/
LOCATION:Central Baptist Church\, 904 Wheat Rd\, Winfield\, KS\, 67156\, United States
CATEGORIES:Worship Services
ORGANIZER;CN="Central Baptist Church":MAILTO:office@cbcwinfield.com
END:VEVENT
BEGIN:VEVENT
DTSTART;TZID=America/Chicago:20230618T093000
DTEND;TZID=America/Chicago:20230618T103000
DTSTAMP:20260423T145425
CREATED:20230627T195030Z
LAST-MODIFIED:20230628T031930Z
UID:10000830-1687080600-1687084200@www.cbcwinfield.com
SUMMARY:Sunday School
DESCRIPTION:
URL:https://www.cbcwinfield.com/event/sunday-school/2023-06-18/
LOCATION:Central Baptist Church\, 904 Wheat Rd\, Winfield\, KS\, 67156\, United States
CATEGORIES:Education
ORGANIZER;CN="Central Baptist Church":MAILTO:office@cbcwinfield.com
END:VEVENT
BEGIN:VEVENT
DTSTART;TZID=America/Chicago:20230614T180000
DTEND;TZID=America/Chicago:20230614T193000
DTSTAMP:20260423T145425
CREATED:20230627T195440Z
LAST-MODIFIED:20230628T033445Z
UID:10000036-1686765600-1686771000@www.cbcwinfield.com
SUMMARY:Youth Group
DESCRIPTION:CBCYouth welcomes all students in grades 6th – 12th!
URL:https://www.cbcwinfield.com/event/youth-group/2023-06-14/
LOCATION:Central Baptist Church\, 904 Wheat Rd\, Winfield\, KS\, 67156\, United States
CATEGORIES:CBCYouth
END:VEVENT
BEGIN:VEVENT
DTSTART;TZID=America/Chicago:20230612T130000
DTEND;TZID=America/Chicago:20230612T140000
DTSTAMP:20260423T145425
CREATED:20230628T031732Z
LAST-MODIFIED:20230628T031732Z
UID:10000565-1686574800-1686578400@www.cbcwinfield.com
SUMMARY:Adult Bible Study
DESCRIPTION:
URL:https://www.cbcwinfield.com/event/adult-bible-study-3/2023-06-12/
LOCATION:Central Baptist Church\, 904 Wheat Rd\, Winfield\, KS\, 67156\, United States
CATEGORIES:Education
ORGANIZER;CN="Central Baptist Church":MAILTO:office@cbcwinfield.com
END:VEVENT
BEGIN:VEVENT
DTSTART;TZID=America/Chicago:20230611T105000
DTEND;TZID=America/Chicago:20230611T115000
DTSTAMP:20260423T145425
CREATED:20230628T032028Z
LAST-MODIFIED:20230628T032029Z
UID:10001095-1686480600-1686484200@www.cbcwinfield.com
SUMMARY:Worship Service
DESCRIPTION:Join us every Sunday for worship! \nIn person at 904 Wheat Road in Winfield\, KS or on Facebook for our livestream!
URL:https://www.cbcwinfield.com/event/worship-service-2-2/2023-06-11/
LOCATION:Central Baptist Church\, 904 Wheat Rd\, Winfield\, KS\, 67156\, United States
CATEGORIES:Worship Services
ORGANIZER;CN="Central Baptist Church":MAILTO:office@cbcwinfield.com
END:VEVENT
BEGIN:VEVENT
DTSTART;TZID=America/Chicago:20230611T093000
DTEND;TZID=America/Chicago:20230611T103000
DTSTAMP:20260423T145425
CREATED:20230627T195030Z
LAST-MODIFIED:20230628T031930Z
UID:10000829-1686475800-1686479400@www.cbcwinfield.com
SUMMARY:Sunday School
DESCRIPTION:
URL:https://www.cbcwinfield.com/event/sunday-school/2023-06-11/
LOCATION:Central Baptist Church\, 904 Wheat Rd\, Winfield\, KS\, 67156\, United States
CATEGORIES:Education
ORGANIZER;CN="Central Baptist Church":MAILTO:office@cbcwinfield.com
END:VEVENT
BEGIN:VEVENT
DTSTART;TZID=America/Chicago:20230607T180000
DTEND;TZID=America/Chicago:20230607T193000
DTSTAMP:20260423T145425
CREATED:20230627T195440Z
LAST-MODIFIED:20230628T033445Z
UID:10000032-1686160800-1686166200@www.cbcwinfield.com
SUMMARY:Youth Group
DESCRIPTION:CBCYouth welcomes all students in grades 6th – 12th!
URL:https://www.cbcwinfield.com/event/youth-group/2023-06-07/
LOCATION:Central Baptist Church\, 904 Wheat Rd\, Winfield\, KS\, 67156\, United States
CATEGORIES:CBCYouth
END:VEVENT
BEGIN:VEVENT
DTSTART;TZID=America/Chicago:20230605T130000
DTEND;TZID=America/Chicago:20230605T140000
DTSTAMP:20260423T145425
CREATED:20230628T031732Z
LAST-MODIFIED:20230628T031732Z
UID:10000564-1685970000-1685973600@www.cbcwinfield.com
SUMMARY:Adult Bible Study
DESCRIPTION:
URL:https://www.cbcwinfield.com/event/adult-bible-study-3/2023-06-05/
LOCATION:Central Baptist Church\, 904 Wheat Rd\, Winfield\, KS\, 67156\, United States
CATEGORIES:Education
ORGANIZER;CN="Central Baptist Church":MAILTO:office@cbcwinfield.com
END:VEVENT
BEGIN:VEVENT
DTSTART;TZID=America/Chicago:20230604T105000
DTEND;TZID=America/Chicago:20230604T115000
DTSTAMP:20260423T145425
CREATED:20230628T032028Z
LAST-MODIFIED:20230628T032029Z
UID:10001094-1685875800-1685879400@www.cbcwinfield.com
SUMMARY:Worship Service
DESCRIPTION:Join us every Sunday for worship! \nIn person at 904 Wheat Road in Winfield\, KS or on Facebook for our livestream!
URL:https://www.cbcwinfield.com/event/worship-service-2-2/2023-06-04/
LOCATION:Central Baptist Church\, 904 Wheat Rd\, Winfield\, KS\, 67156\, United States
CATEGORIES:Worship Services
ORGANIZER;CN="Central Baptist Church":MAILTO:office@cbcwinfield.com
END:VEVENT
BEGIN:VEVENT
DTSTART;TZID=America/Chicago:20230604T093000
DTEND;TZID=America/Chicago:20230604T103000
DTSTAMP:20260423T145425
CREATED:20230627T195030Z
LAST-MODIFIED:20230628T031930Z
UID:10000028-1685871000-1685874600@www.cbcwinfield.com
SUMMARY:Sunday School
DESCRIPTION:
URL:https://www.cbcwinfield.com/event/sunday-school/2023-06-04/
LOCATION:Central Baptist Church\, 904 Wheat Rd\, Winfield\, KS\, 67156\, United States
CATEGORIES:Education
ORGANIZER;CN="Central Baptist Church":MAILTO:office@cbcwinfield.com
END:VEVENT
BEGIN:VEVENT
DTSTART;TZID=America/Chicago:20230529T130000
DTEND;TZID=America/Chicago:20230529T140000
DTSTAMP:20260423T145425
CREATED:20230628T031732Z
LAST-MODIFIED:20230628T031732Z
UID:10000563-1685365200-1685368800@www.cbcwinfield.com
SUMMARY:Adult Bible Study
DESCRIPTION:
URL:https://www.cbcwinfield.com/event/adult-bible-study-3/2023-05-29/
LOCATION:Central Baptist Church\, 904 Wheat Rd\, Winfield\, KS\, 67156\, United States
CATEGORIES:Education
ORGANIZER;CN="Central Baptist Church":MAILTO:office@cbcwinfield.com
END:VEVENT
BEGIN:VEVENT
DTSTART;TZID=America/Chicago:20230528T105000
DTEND;TZID=America/Chicago:20230528T115000
DTSTAMP:20260423T145425
CREATED:20230628T032028Z
LAST-MODIFIED:20230628T032029Z
UID:10000302-1685271000-1685274600@www.cbcwinfield.com
SUMMARY:Worship Service
DESCRIPTION:Join us every Sunday for worship! \nIn person at 904 Wheat Road in Winfield\, KS or on Facebook for our livestream!
URL:https://www.cbcwinfield.com/event/worship-service-2-2/2023-05-28/
LOCATION:Central Baptist Church\, 904 Wheat Rd\, Winfield\, KS\, 67156\, United States
CATEGORIES:Worship Services
ORGANIZER;CN="Central Baptist Church":MAILTO:office@cbcwinfield.com
END:VEVENT
BEGIN:VEVENT
DTSTART;TZID=America/Chicago:20230528T093000
DTEND;TZID=America/Chicago:20230528T103000
DTSTAMP:20260423T145425
CREATED:20230627T195030Z
LAST-MODIFIED:20230628T031930Z
UID:10001093-1685266200-1685269800@www.cbcwinfield.com
SUMMARY:Sunday School
DESCRIPTION:
URL:https://www.cbcwinfield.com/event/sunday-school/2023-05-28/
LOCATION:Central Baptist Church\, 904 Wheat Rd\, Winfield\, KS\, 67156\, United States
CATEGORIES:Education
ORGANIZER;CN="Central Baptist Church":MAILTO:office@cbcwinfield.com
END:VEVENT
BEGIN:VEVENT
DTSTART;TZID=America/Chicago:20220503T113000
DTEND;TZID=America/Chicago:20220503T123000
DTSTAMP:20260423T145425
CREATED:20220518T174446Z
LAST-MODIFIED:20220518T180108Z
UID:10000014-1651577400-1651581000@www.cbcwinfield.com
SUMMARY:Ladies Luncheon
DESCRIPTION:Ladies’ Luncheon is a time for the women of Central Baptist Church to meet up outside of the church for a time of food and fellowship. Ladies’ Luncheon meets the first Tuesday of every month at Pizza Hut in Winfield.
URL:https://www.cbcwinfield.com/event/ladies-luncheon/
LOCATION:Pizza Hut\, 1902 Main St\, Winfield\, KS\, 67156\, United States
CATEGORIES:Fellowship
ATTACH;FMTTYPE=image/png:https://www.cbcwinfield.com/wp-content/uploads/2018/01/ladies_luncheon.png
ORGANIZER;CN="Central Baptist Church":MAILTO:office@cbcwinfield.com
END:VEVENT
BEGIN:VEVENT
DTSTART;TZID=America/Chicago:20210502T104500
DTEND;TZID=America/Chicago:20210502T114500
DTSTAMP:20260423T145425
CREATED:20210408T180213Z
LAST-MODIFIED:20240429T210345Z
UID:10000013-1619952300-1619955900@www.cbcwinfield.com
SUMMARY:Worship Service:  Special Recognition of Mothers
DESCRIPTION:We will be having a special recognition of mothers on Mother’s Day. If your mother is still living please either carry or wear a red flower. If your mother is deceased\, please bring a single white rose\, or flower to be placed on the Lord’s Supper table at the appropriate time during the service.
URL:https://www.cbcwinfield.com/event/worship-service-special-recognition-of-mothers/
LOCATION:Central Baptist Church\, 904 Wheat Rd\, Winfield\, KS\, 67156\, United States
CATEGORIES:Worship Services
ORGANIZER;CN="Central Baptist Church":MAILTO:office@cbcwinfield.com
END:VEVENT
END:VCALENDAR