BEGIN:VCALENDAR
VERSION:2.0
PRODID:-//Central Baptist Church - ECPv6.15.20//NONSGML v1.0//EN
CALSCALE:GREGORIAN
METHOD:PUBLISH
X-ORIGINAL-URL:https://www.cbcwinfield.com
X-WR-CALDESC:Events for Central Baptist Church
REFRESH-INTERVAL;VALUE=DURATION:PT1H
X-Robots-Tag:noindex
X-PUBLISHED-TTL:PT1H
BEGIN:VTIMEZONE
TZID:America/Chicago
BEGIN:DAYLIGHT
TZOFFSETFROM:-0600
TZOFFSETTO:-0500
TZNAME:CDT
DTSTART:20270314T080000
END:DAYLIGHT
BEGIN:STANDARD
TZOFFSETFROM:-0500
TZOFFSETTO:-0600
TZNAME:CST
DTSTART:20271107T070000
END:STANDARD
BEGIN:DAYLIGHT
TZOFFSETFROM:-0600
TZOFFSETTO:-0500
TZNAME:CDT
DTSTART:20280312T080000
END:DAYLIGHT
BEGIN:STANDARD
TZOFFSETFROM:-0500
TZOFFSETTO:-0600
TZNAME:CST
DTSTART:20281105T070000
END:STANDARD
BEGIN:DAYLIGHT
TZOFFSETFROM:-0600
TZOFFSETTO:-0500
TZNAME:CDT
DTSTART:20290311T080000
END:DAYLIGHT
BEGIN:STANDARD
TZOFFSETFROM:-0500
TZOFFSETTO:-0600
TZNAME:CST
DTSTART:20291104T070000
END:STANDARD
END:VTIMEZONE
BEGIN:VEVENT
DTSTART;TZID=America/Chicago:20280405T180000
DTEND;TZID=America/Chicago:20280405T193000
DTSTAMP:20260422T050742
CREATED:20240429T210145Z
LAST-MODIFIED:20240429T210145Z
UID:10001584-1838570400-1838575800@www.cbcwinfield.com
SUMMARY:Mid-Week Bible Study
DESCRIPTION:
URL:https://www.cbcwinfield.com/event/mid-week-bible-study/2028-04-05/
LOCATION:Central Baptist Church\, 904 Wheat Rd\, Winfield\, KS\, 67156\, United States
CATEGORIES:CBCYouth,Education,Fellowship
ORGANIZER;CN="Central Baptist Church":MAILTO:office@cbcwinfield.com
END:VEVENT
BEGIN:VEVENT
DTSTART;TZID=America/Chicago:20280409T093000
DTEND;TZID=America/Chicago:20280409T103000
DTSTAMP:20260422T050742
CREATED:20230627T195030Z
LAST-MODIFIED:20230628T031930Z
UID:10001081-1838885400-1838889000@www.cbcwinfield.com
SUMMARY:Sunday School
DESCRIPTION:
URL:https://www.cbcwinfield.com/event/sunday-school/2028-04-09/
LOCATION:Central Baptist Church\, 904 Wheat Rd\, Winfield\, KS\, 67156\, United States
CATEGORIES:Education
ORGANIZER;CN="Central Baptist Church":MAILTO:office@cbcwinfield.com
END:VEVENT
BEGIN:VEVENT
DTSTART;TZID=America/Chicago:20280409T105000
DTEND;TZID=America/Chicago:20280409T115000
DTSTAMP:20260422T050742
CREATED:20230628T032028Z
LAST-MODIFIED:20230628T032029Z
UID:10000551-1838890200-1838893800@www.cbcwinfield.com
SUMMARY:Worship Service
DESCRIPTION:Join us every Sunday for worship! \nIn person at 904 Wheat Road in Winfield\, KS or on Facebook for our livestream!
URL:https://www.cbcwinfield.com/event/worship-service-2-2/2028-04-09/
LOCATION:Central Baptist Church\, 904 Wheat Rd\, Winfield\, KS\, 67156\, United States
CATEGORIES:Worship Services
ORGANIZER;CN="Central Baptist Church":MAILTO:office@cbcwinfield.com
END:VEVENT
BEGIN:VEVENT
DTSTART;TZID=America/Chicago:20280410T130000
DTEND;TZID=America/Chicago:20280410T140000
DTSTAMP:20260422T050742
CREATED:20230628T031732Z
LAST-MODIFIED:20230628T031732Z
UID:10000817-1838984400-1838988000@www.cbcwinfield.com
SUMMARY:Adult Bible Study
DESCRIPTION:
URL:https://www.cbcwinfield.com/event/adult-bible-study-3/2028-04-10/
LOCATION:Central Baptist Church\, 904 Wheat Rd\, Winfield\, KS\, 67156\, United States
CATEGORIES:Education
ORGANIZER;CN="Central Baptist Church":MAILTO:office@cbcwinfield.com
END:VEVENT
BEGIN:VEVENT
DTSTART;TZID=America/Chicago:20280412T180000
DTEND;TZID=America/Chicago:20280412T193000
DTSTAMP:20260422T050742
CREATED:20230627T195440Z
LAST-MODIFIED:20230628T033445Z
UID:10000288-1839175200-1839180600@www.cbcwinfield.com
SUMMARY:Youth Group
DESCRIPTION:CBCYouth welcomes all students in grades 6th – 12th!
URL:https://www.cbcwinfield.com/event/youth-group/2028-04-12/
LOCATION:Central Baptist Church\, 904 Wheat Rd\, Winfield\, KS\, 67156\, United States
CATEGORIES:CBCYouth
END:VEVENT
BEGIN:VEVENT
DTSTART;TZID=America/Chicago:20280412T180000
DTEND;TZID=America/Chicago:20280412T193000
DTSTAMP:20260422T050742
CREATED:20240429T210145Z
LAST-MODIFIED:20240429T210145Z
UID:10001585-1839175200-1839180600@www.cbcwinfield.com
SUMMARY:Mid-Week Bible Study
DESCRIPTION:
URL:https://www.cbcwinfield.com/event/mid-week-bible-study/2028-04-12/
LOCATION:Central Baptist Church\, 904 Wheat Rd\, Winfield\, KS\, 67156\, United States
CATEGORIES:CBCYouth,Education,Fellowship
ORGANIZER;CN="Central Baptist Church":MAILTO:office@cbcwinfield.com
END:VEVENT
BEGIN:VEVENT
DTSTART;TZID=America/Chicago:20280416T093000
DTEND;TZID=America/Chicago:20280416T103000
DTSTAMP:20260422T050742
CREATED:20230627T195030Z
LAST-MODIFIED:20230628T031930Z
UID:10001082-1839490200-1839493800@www.cbcwinfield.com
SUMMARY:Sunday School
DESCRIPTION:
URL:https://www.cbcwinfield.com/event/sunday-school/2028-04-16/
LOCATION:Central Baptist Church\, 904 Wheat Rd\, Winfield\, KS\, 67156\, United States
CATEGORIES:Education
ORGANIZER;CN="Central Baptist Church":MAILTO:office@cbcwinfield.com
END:VEVENT
BEGIN:VEVENT
DTSTART;TZID=America/Chicago:20280416T105000
DTEND;TZID=America/Chicago:20280416T115000
DTSTAMP:20260422T050742
CREATED:20230628T032028Z
LAST-MODIFIED:20230628T032029Z
UID:10000552-1839495000-1839498600@www.cbcwinfield.com
SUMMARY:Worship Service
DESCRIPTION:Join us every Sunday for worship! \nIn person at 904 Wheat Road in Winfield\, KS or on Facebook for our livestream!
URL:https://www.cbcwinfield.com/event/worship-service-2-2/2028-04-16/
LOCATION:Central Baptist Church\, 904 Wheat Rd\, Winfield\, KS\, 67156\, United States
CATEGORIES:Worship Services
ORGANIZER;CN="Central Baptist Church":MAILTO:office@cbcwinfield.com
END:VEVENT
BEGIN:VEVENT
DTSTART;TZID=America/Chicago:20280417T130000
DTEND;TZID=America/Chicago:20280417T140000
DTSTAMP:20260422T050742
CREATED:20230628T031732Z
LAST-MODIFIED:20230628T031732Z
UID:10000818-1839589200-1839592800@www.cbcwinfield.com
SUMMARY:Adult Bible Study
DESCRIPTION:
URL:https://www.cbcwinfield.com/event/adult-bible-study-3/2028-04-17/
LOCATION:Central Baptist Church\, 904 Wheat Rd\, Winfield\, KS\, 67156\, United States
CATEGORIES:Education
ORGANIZER;CN="Central Baptist Church":MAILTO:office@cbcwinfield.com
END:VEVENT
BEGIN:VEVENT
DTSTART;TZID=America/Chicago:20280419T180000
DTEND;TZID=America/Chicago:20280419T193000
DTSTAMP:20260422T050742
CREATED:20230627T195440Z
LAST-MODIFIED:20230628T033445Z
UID:10000289-1839780000-1839785400@www.cbcwinfield.com
SUMMARY:Youth Group
DESCRIPTION:CBCYouth welcomes all students in grades 6th – 12th!
URL:https://www.cbcwinfield.com/event/youth-group/2028-04-19/
LOCATION:Central Baptist Church\, 904 Wheat Rd\, Winfield\, KS\, 67156\, United States
CATEGORIES:CBCYouth
END:VEVENT
BEGIN:VEVENT
DTSTART;TZID=America/Chicago:20280419T180000
DTEND;TZID=America/Chicago:20280419T193000
DTSTAMP:20260422T050742
CREATED:20240429T210145Z
LAST-MODIFIED:20240429T210145Z
UID:10001586-1839780000-1839785400@www.cbcwinfield.com
SUMMARY:Mid-Week Bible Study
DESCRIPTION:
URL:https://www.cbcwinfield.com/event/mid-week-bible-study/2028-04-19/
LOCATION:Central Baptist Church\, 904 Wheat Rd\, Winfield\, KS\, 67156\, United States
CATEGORIES:CBCYouth,Education,Fellowship
ORGANIZER;CN="Central Baptist Church":MAILTO:office@cbcwinfield.com
END:VEVENT
BEGIN:VEVENT
DTSTART;TZID=America/Chicago:20280423T093000
DTEND;TZID=America/Chicago:20280423T103000
DTSTAMP:20260422T050742
CREATED:20230627T195030Z
LAST-MODIFIED:20230628T031930Z
UID:10001083-1840095000-1840098600@www.cbcwinfield.com
SUMMARY:Sunday School
DESCRIPTION:
URL:https://www.cbcwinfield.com/event/sunday-school/2028-04-23/
LOCATION:Central Baptist Church\, 904 Wheat Rd\, Winfield\, KS\, 67156\, United States
CATEGORIES:Education
ORGANIZER;CN="Central Baptist Church":MAILTO:office@cbcwinfield.com
END:VEVENT
BEGIN:VEVENT
DTSTART;TZID=America/Chicago:20280423T105000
DTEND;TZID=America/Chicago:20280423T115000
DTSTAMP:20260422T050742
CREATED:20230628T032028Z
LAST-MODIFIED:20230628T032029Z
UID:10000553-1840099800-1840103400@www.cbcwinfield.com
SUMMARY:Worship Service
DESCRIPTION:Join us every Sunday for worship! \nIn person at 904 Wheat Road in Winfield\, KS or on Facebook for our livestream!
URL:https://www.cbcwinfield.com/event/worship-service-2-2/2028-04-23/
LOCATION:Central Baptist Church\, 904 Wheat Rd\, Winfield\, KS\, 67156\, United States
CATEGORIES:Worship Services
ORGANIZER;CN="Central Baptist Church":MAILTO:office@cbcwinfield.com
END:VEVENT
BEGIN:VEVENT
DTSTART;TZID=America/Chicago:20280424T130000
DTEND;TZID=America/Chicago:20280424T140000
DTSTAMP:20260422T050742
CREATED:20230628T031732Z
LAST-MODIFIED:20230628T031732Z
UID:10000819-1840194000-1840197600@www.cbcwinfield.com
SUMMARY:Adult Bible Study
DESCRIPTION:
URL:https://www.cbcwinfield.com/event/adult-bible-study-3/2028-04-24/
LOCATION:Central Baptist Church\, 904 Wheat Rd\, Winfield\, KS\, 67156\, United States
CATEGORIES:Education
ORGANIZER;CN="Central Baptist Church":MAILTO:office@cbcwinfield.com
END:VEVENT
BEGIN:VEVENT
DTSTART;TZID=America/Chicago:20280426T180000
DTEND;TZID=America/Chicago:20280426T193000
DTSTAMP:20260422T050742
CREATED:20230627T195440Z
LAST-MODIFIED:20230628T033445Z
UID:10000290-1840384800-1840390200@www.cbcwinfield.com
SUMMARY:Youth Group
DESCRIPTION:CBCYouth welcomes all students in grades 6th – 12th!
URL:https://www.cbcwinfield.com/event/youth-group/2028-04-26/
LOCATION:Central Baptist Church\, 904 Wheat Rd\, Winfield\, KS\, 67156\, United States
CATEGORIES:CBCYouth
END:VEVENT
BEGIN:VEVENT
DTSTART;TZID=America/Chicago:20280426T180000
DTEND;TZID=America/Chicago:20280426T193000
DTSTAMP:20260422T050742
CREATED:20240429T210145Z
LAST-MODIFIED:20240429T210145Z
UID:10001587-1840384800-1840390200@www.cbcwinfield.com
SUMMARY:Mid-Week Bible Study
DESCRIPTION:
URL:https://www.cbcwinfield.com/event/mid-week-bible-study/2028-04-26/
LOCATION:Central Baptist Church\, 904 Wheat Rd\, Winfield\, KS\, 67156\, United States
CATEGORIES:CBCYouth,Education,Fellowship
ORGANIZER;CN="Central Baptist Church":MAILTO:office@cbcwinfield.com
END:VEVENT
BEGIN:VEVENT
DTSTART;TZID=America/Chicago:20280430T093000
DTEND;TZID=America/Chicago:20280430T103000
DTSTAMP:20260422T050742
CREATED:20230627T195030Z
LAST-MODIFIED:20230628T031930Z
UID:10001084-1840699800-1840703400@www.cbcwinfield.com
SUMMARY:Sunday School
DESCRIPTION:
URL:https://www.cbcwinfield.com/event/sunday-school/2028-04-30/
LOCATION:Central Baptist Church\, 904 Wheat Rd\, Winfield\, KS\, 67156\, United States
CATEGORIES:Education
ORGANIZER;CN="Central Baptist Church":MAILTO:office@cbcwinfield.com
END:VEVENT
BEGIN:VEVENT
DTSTART;TZID=America/Chicago:20280430T105000
DTEND;TZID=America/Chicago:20280430T115000
DTSTAMP:20260422T050742
CREATED:20230628T032028Z
LAST-MODIFIED:20230628T032029Z
UID:10000554-1840704600-1840708200@www.cbcwinfield.com
SUMMARY:Worship Service
DESCRIPTION:Join us every Sunday for worship! \nIn person at 904 Wheat Road in Winfield\, KS or on Facebook for our livestream!
URL:https://www.cbcwinfield.com/event/worship-service-2-2/2028-04-30/
LOCATION:Central Baptist Church\, 904 Wheat Rd\, Winfield\, KS\, 67156\, United States
CATEGORIES:Worship Services
ORGANIZER;CN="Central Baptist Church":MAILTO:office@cbcwinfield.com
END:VEVENT
BEGIN:VEVENT
DTSTART;TZID=America/Chicago:20280501T130000
DTEND;TZID=America/Chicago:20280501T140000
DTSTAMP:20260422T050742
CREATED:20230628T031732Z
LAST-MODIFIED:20230628T031732Z
UID:10000820-1840798800-1840802400@www.cbcwinfield.com
SUMMARY:Adult Bible Study
DESCRIPTION:
URL:https://www.cbcwinfield.com/event/adult-bible-study-3/2028-05-01/
LOCATION:Central Baptist Church\, 904 Wheat Rd\, Winfield\, KS\, 67156\, United States
CATEGORIES:Education
ORGANIZER;CN="Central Baptist Church":MAILTO:office@cbcwinfield.com
END:VEVENT
BEGIN:VEVENT
DTSTART;TZID=America/Chicago:20280503T180000
DTEND;TZID=America/Chicago:20280503T193000
DTSTAMP:20260422T050742
CREATED:20230627T195440Z
LAST-MODIFIED:20230628T033445Z
UID:10000291-1840989600-1840995000@www.cbcwinfield.com
SUMMARY:Youth Group
DESCRIPTION:CBCYouth welcomes all students in grades 6th – 12th!
URL:https://www.cbcwinfield.com/event/youth-group/2028-05-03/
LOCATION:Central Baptist Church\, 904 Wheat Rd\, Winfield\, KS\, 67156\, United States
CATEGORIES:CBCYouth
END:VEVENT
BEGIN:VEVENT
DTSTART;TZID=America/Chicago:20280503T180000
DTEND;TZID=America/Chicago:20280503T193000
DTSTAMP:20260422T050742
CREATED:20240429T210145Z
LAST-MODIFIED:20240429T210145Z
UID:10001588-1840989600-1840995000@www.cbcwinfield.com
SUMMARY:Mid-Week Bible Study
DESCRIPTION:
URL:https://www.cbcwinfield.com/event/mid-week-bible-study/2028-05-03/
LOCATION:Central Baptist Church\, 904 Wheat Rd\, Winfield\, KS\, 67156\, United States
CATEGORIES:CBCYouth,Education,Fellowship
ORGANIZER;CN="Central Baptist Church":MAILTO:office@cbcwinfield.com
END:VEVENT
BEGIN:VEVENT
DTSTART;TZID=America/Chicago:20280507T093000
DTEND;TZID=America/Chicago:20280507T103000
DTSTAMP:20260422T050742
CREATED:20230627T195030Z
LAST-MODIFIED:20230628T031930Z
UID:10001085-1841304600-1841308200@www.cbcwinfield.com
SUMMARY:Sunday School
DESCRIPTION:
URL:https://www.cbcwinfield.com/event/sunday-school/2028-05-07/
LOCATION:Central Baptist Church\, 904 Wheat Rd\, Winfield\, KS\, 67156\, United States
CATEGORIES:Education
ORGANIZER;CN="Central Baptist Church":MAILTO:office@cbcwinfield.com
END:VEVENT
BEGIN:VEVENT
DTSTART;TZID=America/Chicago:20280507T105000
DTEND;TZID=America/Chicago:20280507T115000
DTSTAMP:20260422T050742
CREATED:20230628T032028Z
LAST-MODIFIED:20230628T032029Z
UID:10000555-1841309400-1841313000@www.cbcwinfield.com
SUMMARY:Worship Service
DESCRIPTION:Join us every Sunday for worship! \nIn person at 904 Wheat Road in Winfield\, KS or on Facebook for our livestream!
URL:https://www.cbcwinfield.com/event/worship-service-2-2/2028-05-07/
LOCATION:Central Baptist Church\, 904 Wheat Rd\, Winfield\, KS\, 67156\, United States
CATEGORIES:Worship Services
ORGANIZER;CN="Central Baptist Church":MAILTO:office@cbcwinfield.com
END:VEVENT
BEGIN:VEVENT
DTSTART;TZID=America/Chicago:20280508T130000
DTEND;TZID=America/Chicago:20280508T140000
DTSTAMP:20260422T050742
CREATED:20230628T031732Z
LAST-MODIFIED:20230628T031732Z
UID:10000821-1841403600-1841407200@www.cbcwinfield.com
SUMMARY:Adult Bible Study
DESCRIPTION:
URL:https://www.cbcwinfield.com/event/adult-bible-study-3/2028-05-08/
LOCATION:Central Baptist Church\, 904 Wheat Rd\, Winfield\, KS\, 67156\, United States
CATEGORIES:Education
ORGANIZER;CN="Central Baptist Church":MAILTO:office@cbcwinfield.com
END:VEVENT
BEGIN:VEVENT
DTSTART;TZID=America/Chicago:20280510T180000
DTEND;TZID=America/Chicago:20280510T193000
DTSTAMP:20260422T050742
CREATED:20230627T195440Z
LAST-MODIFIED:20230628T033445Z
UID:10000292-1841594400-1841599800@www.cbcwinfield.com
SUMMARY:Youth Group
DESCRIPTION:CBCYouth welcomes all students in grades 6th – 12th!
URL:https://www.cbcwinfield.com/event/youth-group/2028-05-10/
LOCATION:Central Baptist Church\, 904 Wheat Rd\, Winfield\, KS\, 67156\, United States
CATEGORIES:CBCYouth
END:VEVENT
BEGIN:VEVENT
DTSTART;TZID=America/Chicago:20280510T180000
DTEND;TZID=America/Chicago:20280510T193000
DTSTAMP:20260422T050742
CREATED:20240429T210145Z
LAST-MODIFIED:20240429T210145Z
UID:10001589-1841594400-1841599800@www.cbcwinfield.com
SUMMARY:Mid-Week Bible Study
DESCRIPTION:
URL:https://www.cbcwinfield.com/event/mid-week-bible-study/2028-05-10/
LOCATION:Central Baptist Church\, 904 Wheat Rd\, Winfield\, KS\, 67156\, United States
CATEGORIES:CBCYouth,Education,Fellowship
ORGANIZER;CN="Central Baptist Church":MAILTO:office@cbcwinfield.com
END:VEVENT
BEGIN:VEVENT
DTSTART;TZID=America/Chicago:20280514T093000
DTEND;TZID=America/Chicago:20280514T103000
DTSTAMP:20260422T050742
CREATED:20230627T195030Z
LAST-MODIFIED:20230628T031930Z
UID:10001086-1841909400-1841913000@www.cbcwinfield.com
SUMMARY:Sunday School
DESCRIPTION:
URL:https://www.cbcwinfield.com/event/sunday-school/2028-05-14/
LOCATION:Central Baptist Church\, 904 Wheat Rd\, Winfield\, KS\, 67156\, United States
CATEGORIES:Education
ORGANIZER;CN="Central Baptist Church":MAILTO:office@cbcwinfield.com
END:VEVENT
BEGIN:VEVENT
DTSTART;TZID=America/Chicago:20280514T105000
DTEND;TZID=America/Chicago:20280514T115000
DTSTAMP:20260422T050742
CREATED:20230628T032028Z
LAST-MODIFIED:20230628T032029Z
UID:10000556-1841914200-1841917800@www.cbcwinfield.com
SUMMARY:Worship Service
DESCRIPTION:Join us every Sunday for worship! \nIn person at 904 Wheat Road in Winfield\, KS or on Facebook for our livestream!
URL:https://www.cbcwinfield.com/event/worship-service-2-2/2028-05-14/
LOCATION:Central Baptist Church\, 904 Wheat Rd\, Winfield\, KS\, 67156\, United States
CATEGORIES:Worship Services
ORGANIZER;CN="Central Baptist Church":MAILTO:office@cbcwinfield.com
END:VEVENT
BEGIN:VEVENT
DTSTART;TZID=America/Chicago:20280515T130000
DTEND;TZID=America/Chicago:20280515T140000
DTSTAMP:20260422T050742
CREATED:20230628T031732Z
LAST-MODIFIED:20230628T031732Z
UID:10000822-1842008400-1842012000@www.cbcwinfield.com
SUMMARY:Adult Bible Study
DESCRIPTION:
URL:https://www.cbcwinfield.com/event/adult-bible-study-3/2028-05-15/
LOCATION:Central Baptist Church\, 904 Wheat Rd\, Winfield\, KS\, 67156\, United States
CATEGORIES:Education
ORGANIZER;CN="Central Baptist Church":MAILTO:office@cbcwinfield.com
END:VEVENT
BEGIN:VEVENT
DTSTART;TZID=America/Chicago:20280517T180000
DTEND;TZID=America/Chicago:20280517T193000
DTSTAMP:20260422T050742
CREATED:20230627T195440Z
LAST-MODIFIED:20230628T033445Z
UID:10000293-1842199200-1842204600@www.cbcwinfield.com
SUMMARY:Youth Group
DESCRIPTION:CBCYouth welcomes all students in grades 6th – 12th!
URL:https://www.cbcwinfield.com/event/youth-group/2028-05-17/
LOCATION:Central Baptist Church\, 904 Wheat Rd\, Winfield\, KS\, 67156\, United States
CATEGORIES:CBCYouth
END:VEVENT
END:VCALENDAR