BEGIN:VCALENDAR
VERSION:2.0
PRODID:-//Central Baptist Church - ECPv6.15.20//NONSGML v1.0//EN
CALSCALE:GREGORIAN
METHOD:PUBLISH
X-WR-CALNAME:Central Baptist Church
X-ORIGINAL-URL:https://www.cbcwinfield.com
X-WR-CALDESC:Events for Central Baptist Church
REFRESH-INTERVAL;VALUE=DURATION:PT1H
X-Robots-Tag:noindex
X-PUBLISHED-TTL:PT1H
BEGIN:VTIMEZONE
TZID:America/Chicago
BEGIN:DAYLIGHT
TZOFFSETFROM:-0600
TZOFFSETTO:-0500
TZNAME:CDT
DTSTART:20230312T080000
END:DAYLIGHT
BEGIN:STANDARD
TZOFFSETFROM:-0500
TZOFFSETTO:-0600
TZNAME:CST
DTSTART:20231105T070000
END:STANDARD
BEGIN:DAYLIGHT
TZOFFSETFROM:-0600
TZOFFSETTO:-0500
TZNAME:CDT
DTSTART:20240310T080000
END:DAYLIGHT
BEGIN:STANDARD
TZOFFSETFROM:-0500
TZOFFSETTO:-0600
TZNAME:CST
DTSTART:20241103T070000
END:STANDARD
BEGIN:DAYLIGHT
TZOFFSETFROM:-0600
TZOFFSETTO:-0500
TZNAME:CDT
DTSTART:20250309T080000
END:DAYLIGHT
BEGIN:STANDARD
TZOFFSETFROM:-0500
TZOFFSETTO:-0600
TZNAME:CST
DTSTART:20251102T070000
END:STANDARD
END:VTIMEZONE
BEGIN:VEVENT
DTSTART;TZID=America/Chicago:20240508T180000
DTEND;TZID=America/Chicago:20240508T193000
DTSTAMP:20260423T013559
CREATED:20240429T210145Z
LAST-MODIFIED:20240429T210145Z
UID:10001380-1715191200-1715196600@www.cbcwinfield.com
SUMMARY:Mid-Week Bible Study
DESCRIPTION:
URL:https://www.cbcwinfield.com/event/mid-week-bible-study/2024-05-08/
LOCATION:Central Baptist Church\, 904 Wheat Rd\, Winfield\, KS\, 67156\, United States
CATEGORIES:CBCYouth,Education,Fellowship
ORGANIZER;CN="Central Baptist Church":MAILTO:office@cbcwinfield.com
END:VEVENT
BEGIN:VEVENT
DTSTART;TZID=America/Chicago:20240508T180000
DTEND;TZID=America/Chicago:20240508T193000
DTSTAMP:20260423T013559
CREATED:20230627T195440Z
LAST-MODIFIED:20230628T033445Z
UID:10000083-1715191200-1715196600@www.cbcwinfield.com
SUMMARY:Youth Group
DESCRIPTION:CBCYouth welcomes all students in grades 6th – 12th!
URL:https://www.cbcwinfield.com/event/youth-group/2024-05-08/
LOCATION:Central Baptist Church\, 904 Wheat Rd\, Winfield\, KS\, 67156\, United States
CATEGORIES:CBCYouth
END:VEVENT
BEGIN:VEVENT
DTSTART;TZID=America/Chicago:20240506T130000
DTEND;TZID=America/Chicago:20240506T140000
DTSTAMP:20260423T013559
CREATED:20230628T031732Z
LAST-MODIFIED:20230628T031732Z
UID:10000612-1715000400-1715004000@www.cbcwinfield.com
SUMMARY:Adult Bible Study
DESCRIPTION:
URL:https://www.cbcwinfield.com/event/adult-bible-study-3/2024-05-06/
LOCATION:Central Baptist Church\, 904 Wheat Rd\, Winfield\, KS\, 67156\, United States
CATEGORIES:Education
ORGANIZER;CN="Central Baptist Church":MAILTO:office@cbcwinfield.com
END:VEVENT
BEGIN:VEVENT
DTSTART;TZID=America/Chicago:20240505T105000
DTEND;TZID=America/Chicago:20240505T115000
DTSTAMP:20260423T013559
CREATED:20230628T032028Z
LAST-MODIFIED:20230628T032029Z
UID:10000346-1714906200-1714909800@www.cbcwinfield.com
SUMMARY:Worship Service
DESCRIPTION:Join us every Sunday for worship! \nIn person at 904 Wheat Road in Winfield\, KS or on Facebook for our livestream!
URL:https://www.cbcwinfield.com/event/worship-service-2-2/2024-05-05/
LOCATION:Central Baptist Church\, 904 Wheat Rd\, Winfield\, KS\, 67156\, United States
CATEGORIES:Worship Services
ORGANIZER;CN="Central Baptist Church":MAILTO:office@cbcwinfield.com
END:VEVENT
BEGIN:VEVENT
DTSTART;TZID=America/Chicago:20240505T093000
DTEND;TZID=America/Chicago:20240505T103000
DTSTAMP:20260423T013559
CREATED:20230627T195030Z
LAST-MODIFIED:20230628T031930Z
UID:10000876-1714901400-1714905000@www.cbcwinfield.com
SUMMARY:Sunday School
DESCRIPTION:
URL:https://www.cbcwinfield.com/event/sunday-school/2024-05-05/
LOCATION:Central Baptist Church\, 904 Wheat Rd\, Winfield\, KS\, 67156\, United States
CATEGORIES:Education
ORGANIZER;CN="Central Baptist Church":MAILTO:office@cbcwinfield.com
END:VEVENT
BEGIN:VEVENT
DTSTART;TZID=America/Chicago:20240501T180000
DTEND;TZID=America/Chicago:20240501T193000
DTSTAMP:20260423T013559
CREATED:20240429T210145Z
LAST-MODIFIED:20240429T210145Z
UID:10001379-1714586400-1714591800@www.cbcwinfield.com
SUMMARY:Mid-Week Bible Study
DESCRIPTION:
URL:https://www.cbcwinfield.com/event/mid-week-bible-study/2024-05-01/
LOCATION:Central Baptist Church\, 904 Wheat Rd\, Winfield\, KS\, 67156\, United States
CATEGORIES:CBCYouth,Education,Fellowship
ORGANIZER;CN="Central Baptist Church":MAILTO:office@cbcwinfield.com
END:VEVENT
BEGIN:VEVENT
DTSTART;TZID=America/Chicago:20240501T180000
DTEND;TZID=America/Chicago:20240501T193000
DTSTAMP:20260423T013559
CREATED:20230627T195440Z
LAST-MODIFIED:20230628T033445Z
UID:10000082-1714586400-1714591800@www.cbcwinfield.com
SUMMARY:Youth Group
DESCRIPTION:CBCYouth welcomes all students in grades 6th – 12th!
URL:https://www.cbcwinfield.com/event/youth-group/2024-05-01/
LOCATION:Central Baptist Church\, 904 Wheat Rd\, Winfield\, KS\, 67156\, United States
CATEGORIES:CBCYouth
END:VEVENT
BEGIN:VEVENT
DTSTART;TZID=America/Chicago:20240429T130000
DTEND;TZID=America/Chicago:20240429T140000
DTSTAMP:20260423T013559
CREATED:20230628T031732Z
LAST-MODIFIED:20230628T031732Z
UID:10000611-1714395600-1714399200@www.cbcwinfield.com
SUMMARY:Adult Bible Study
DESCRIPTION:
URL:https://www.cbcwinfield.com/event/adult-bible-study-3/2024-04-29/
LOCATION:Central Baptist Church\, 904 Wheat Rd\, Winfield\, KS\, 67156\, United States
CATEGORIES:Education
ORGANIZER;CN="Central Baptist Church":MAILTO:office@cbcwinfield.com
END:VEVENT
BEGIN:VEVENT
DTSTART;TZID=America/Chicago:20240428T105000
DTEND;TZID=America/Chicago:20240428T115000
DTSTAMP:20260423T013559
CREATED:20230628T032028Z
LAST-MODIFIED:20230628T032029Z
UID:10000345-1714301400-1714305000@www.cbcwinfield.com
SUMMARY:Worship Service
DESCRIPTION:Join us every Sunday for worship! \nIn person at 904 Wheat Road in Winfield\, KS or on Facebook for our livestream!
URL:https://www.cbcwinfield.com/event/worship-service-2-2/2024-04-28/
LOCATION:Central Baptist Church\, 904 Wheat Rd\, Winfield\, KS\, 67156\, United States
CATEGORIES:Worship Services
ORGANIZER;CN="Central Baptist Church":MAILTO:office@cbcwinfield.com
END:VEVENT
BEGIN:VEVENT
DTSTART;TZID=America/Chicago:20240428T093000
DTEND;TZID=America/Chicago:20240428T103000
DTSTAMP:20260423T013559
CREATED:20230627T195030Z
LAST-MODIFIED:20230628T031930Z
UID:10000875-1714296600-1714300200@www.cbcwinfield.com
SUMMARY:Sunday School
DESCRIPTION:
URL:https://www.cbcwinfield.com/event/sunday-school/2024-04-28/
LOCATION:Central Baptist Church\, 904 Wheat Rd\, Winfield\, KS\, 67156\, United States
CATEGORIES:Education
ORGANIZER;CN="Central Baptist Church":MAILTO:office@cbcwinfield.com
END:VEVENT
BEGIN:VEVENT
DTSTART;TZID=America/Chicago:20240424T180000
DTEND;TZID=America/Chicago:20240424T193000
DTSTAMP:20260423T013559
CREATED:20240429T210145Z
LAST-MODIFIED:20240429T210145Z
UID:10001378-1713981600-1713987000@www.cbcwinfield.com
SUMMARY:Mid-Week Bible Study
DESCRIPTION:
URL:https://www.cbcwinfield.com/event/mid-week-bible-study/2024-04-24/
LOCATION:Central Baptist Church\, 904 Wheat Rd\, Winfield\, KS\, 67156\, United States
CATEGORIES:CBCYouth,Education,Fellowship
ORGANIZER;CN="Central Baptist Church":MAILTO:office@cbcwinfield.com
END:VEVENT
BEGIN:VEVENT
DTSTART;TZID=America/Chicago:20240424T180000
DTEND;TZID=America/Chicago:20240424T193000
DTSTAMP:20260423T013559
CREATED:20230627T195440Z
LAST-MODIFIED:20230628T033445Z
UID:10000081-1713981600-1713987000@www.cbcwinfield.com
SUMMARY:Youth Group
DESCRIPTION:CBCYouth welcomes all students in grades 6th – 12th!
URL:https://www.cbcwinfield.com/event/youth-group/2024-04-24/
LOCATION:Central Baptist Church\, 904 Wheat Rd\, Winfield\, KS\, 67156\, United States
CATEGORIES:CBCYouth
END:VEVENT
BEGIN:VEVENT
DTSTART;TZID=America/Chicago:20240422T130000
DTEND;TZID=America/Chicago:20240422T140000
DTSTAMP:20260423T013559
CREATED:20230628T031732Z
LAST-MODIFIED:20230628T031732Z
UID:10000610-1713790800-1713794400@www.cbcwinfield.com
SUMMARY:Adult Bible Study
DESCRIPTION:
URL:https://www.cbcwinfield.com/event/adult-bible-study-3/2024-04-22/
LOCATION:Central Baptist Church\, 904 Wheat Rd\, Winfield\, KS\, 67156\, United States
CATEGORIES:Education
ORGANIZER;CN="Central Baptist Church":MAILTO:office@cbcwinfield.com
END:VEVENT
BEGIN:VEVENT
DTSTART;TZID=America/Chicago:20240421T105000
DTEND;TZID=America/Chicago:20240421T115000
DTSTAMP:20260423T013559
CREATED:20230628T032028Z
LAST-MODIFIED:20230628T032029Z
UID:10000344-1713696600-1713700200@www.cbcwinfield.com
SUMMARY:Worship Service
DESCRIPTION:Join us every Sunday for worship! \nIn person at 904 Wheat Road in Winfield\, KS or on Facebook for our livestream!
URL:https://www.cbcwinfield.com/event/worship-service-2-2/2024-04-21/
LOCATION:Central Baptist Church\, 904 Wheat Rd\, Winfield\, KS\, 67156\, United States
CATEGORIES:Worship Services
ORGANIZER;CN="Central Baptist Church":MAILTO:office@cbcwinfield.com
END:VEVENT
BEGIN:VEVENT
DTSTART;TZID=America/Chicago:20240421T093000
DTEND;TZID=America/Chicago:20240421T103000
DTSTAMP:20260423T013559
CREATED:20230627T195030Z
LAST-MODIFIED:20230628T031930Z
UID:10000874-1713691800-1713695400@www.cbcwinfield.com
SUMMARY:Sunday School
DESCRIPTION:
URL:https://www.cbcwinfield.com/event/sunday-school/2024-04-21/
LOCATION:Central Baptist Church\, 904 Wheat Rd\, Winfield\, KS\, 67156\, United States
CATEGORIES:Education
ORGANIZER;CN="Central Baptist Church":MAILTO:office@cbcwinfield.com
END:VEVENT
BEGIN:VEVENT
DTSTART;TZID=America/Chicago:20240417T180000
DTEND;TZID=America/Chicago:20240417T193000
DTSTAMP:20260423T013559
CREATED:20240429T210145Z
LAST-MODIFIED:20240429T210145Z
UID:10001377-1713376800-1713382200@www.cbcwinfield.com
SUMMARY:Mid-Week Bible Study
DESCRIPTION:
URL:https://www.cbcwinfield.com/event/mid-week-bible-study/2024-04-17/
LOCATION:Central Baptist Church\, 904 Wheat Rd\, Winfield\, KS\, 67156\, United States
CATEGORIES:CBCYouth,Education,Fellowship
ORGANIZER;CN="Central Baptist Church":MAILTO:office@cbcwinfield.com
END:VEVENT
BEGIN:VEVENT
DTSTART;TZID=America/Chicago:20240417T180000
DTEND;TZID=America/Chicago:20240417T193000
DTSTAMP:20260423T013559
CREATED:20230627T195440Z
LAST-MODIFIED:20230628T033445Z
UID:10000080-1713376800-1713382200@www.cbcwinfield.com
SUMMARY:Youth Group
DESCRIPTION:CBCYouth welcomes all students in grades 6th – 12th!
URL:https://www.cbcwinfield.com/event/youth-group/2024-04-17/
LOCATION:Central Baptist Church\, 904 Wheat Rd\, Winfield\, KS\, 67156\, United States
CATEGORIES:CBCYouth
END:VEVENT
BEGIN:VEVENT
DTSTART;TZID=America/Chicago:20240415T130000
DTEND;TZID=America/Chicago:20240415T140000
DTSTAMP:20260423T013559
CREATED:20230628T031732Z
LAST-MODIFIED:20230628T031732Z
UID:10000609-1713186000-1713189600@www.cbcwinfield.com
SUMMARY:Adult Bible Study
DESCRIPTION:
URL:https://www.cbcwinfield.com/event/adult-bible-study-3/2024-04-15/
LOCATION:Central Baptist Church\, 904 Wheat Rd\, Winfield\, KS\, 67156\, United States
CATEGORIES:Education
ORGANIZER;CN="Central Baptist Church":MAILTO:office@cbcwinfield.com
END:VEVENT
BEGIN:VEVENT
DTSTART;TZID=America/Chicago:20240414T105000
DTEND;TZID=America/Chicago:20240414T115000
DTSTAMP:20260423T013559
CREATED:20230628T032028Z
LAST-MODIFIED:20230628T032029Z
UID:10000343-1713091800-1713095400@www.cbcwinfield.com
SUMMARY:Worship Service
DESCRIPTION:Join us every Sunday for worship! \nIn person at 904 Wheat Road in Winfield\, KS or on Facebook for our livestream!
URL:https://www.cbcwinfield.com/event/worship-service-2-2/2024-04-14/
LOCATION:Central Baptist Church\, 904 Wheat Rd\, Winfield\, KS\, 67156\, United States
CATEGORIES:Worship Services
ORGANIZER;CN="Central Baptist Church":MAILTO:office@cbcwinfield.com
END:VEVENT
BEGIN:VEVENT
DTSTART;TZID=America/Chicago:20240414T093000
DTEND;TZID=America/Chicago:20240414T103000
DTSTAMP:20260423T013559
CREATED:20230627T195030Z
LAST-MODIFIED:20230628T031930Z
UID:10000873-1713087000-1713090600@www.cbcwinfield.com
SUMMARY:Sunday School
DESCRIPTION:
URL:https://www.cbcwinfield.com/event/sunday-school/2024-04-14/
LOCATION:Central Baptist Church\, 904 Wheat Rd\, Winfield\, KS\, 67156\, United States
CATEGORIES:Education
ORGANIZER;CN="Central Baptist Church":MAILTO:office@cbcwinfield.com
END:VEVENT
BEGIN:VEVENT
DTSTART;TZID=America/Chicago:20240410T180000
DTEND;TZID=America/Chicago:20240410T193000
DTSTAMP:20260423T013559
CREATED:20240429T210145Z
LAST-MODIFIED:20240429T210145Z
UID:10001376-1712772000-1712777400@www.cbcwinfield.com
SUMMARY:Mid-Week Bible Study
DESCRIPTION:
URL:https://www.cbcwinfield.com/event/mid-week-bible-study/2024-04-10/
LOCATION:Central Baptist Church\, 904 Wheat Rd\, Winfield\, KS\, 67156\, United States
CATEGORIES:CBCYouth,Education,Fellowship
ORGANIZER;CN="Central Baptist Church":MAILTO:office@cbcwinfield.com
END:VEVENT
BEGIN:VEVENT
DTSTART;TZID=America/Chicago:20240410T180000
DTEND;TZID=America/Chicago:20240410T193000
DTSTAMP:20260423T013559
CREATED:20230627T195440Z
LAST-MODIFIED:20230628T033445Z
UID:10000079-1712772000-1712777400@www.cbcwinfield.com
SUMMARY:Youth Group
DESCRIPTION:CBCYouth welcomes all students in grades 6th – 12th!
URL:https://www.cbcwinfield.com/event/youth-group/2024-04-10/
LOCATION:Central Baptist Church\, 904 Wheat Rd\, Winfield\, KS\, 67156\, United States
CATEGORIES:CBCYouth
END:VEVENT
BEGIN:VEVENT
DTSTART;TZID=America/Chicago:20240408T130000
DTEND;TZID=America/Chicago:20240408T140000
DTSTAMP:20260423T013559
CREATED:20230628T031732Z
LAST-MODIFIED:20230628T031732Z
UID:10000608-1712581200-1712584800@www.cbcwinfield.com
SUMMARY:Adult Bible Study
DESCRIPTION:
URL:https://www.cbcwinfield.com/event/adult-bible-study-3/2024-04-08/
LOCATION:Central Baptist Church\, 904 Wheat Rd\, Winfield\, KS\, 67156\, United States
CATEGORIES:Education
ORGANIZER;CN="Central Baptist Church":MAILTO:office@cbcwinfield.com
END:VEVENT
BEGIN:VEVENT
DTSTART;TZID=America/Chicago:20240407T105000
DTEND;TZID=America/Chicago:20240407T115000
DTSTAMP:20260423T013559
CREATED:20230628T032028Z
LAST-MODIFIED:20230628T032029Z
UID:10000342-1712487000-1712490600@www.cbcwinfield.com
SUMMARY:Worship Service
DESCRIPTION:Join us every Sunday for worship! \nIn person at 904 Wheat Road in Winfield\, KS or on Facebook for our livestream!
URL:https://www.cbcwinfield.com/event/worship-service-2-2/2024-04-07/
LOCATION:Central Baptist Church\, 904 Wheat Rd\, Winfield\, KS\, 67156\, United States
CATEGORIES:Worship Services
ORGANIZER;CN="Central Baptist Church":MAILTO:office@cbcwinfield.com
END:VEVENT
BEGIN:VEVENT
DTSTART;TZID=America/Chicago:20240407T093000
DTEND;TZID=America/Chicago:20240407T103000
DTSTAMP:20260423T013559
CREATED:20230627T195030Z
LAST-MODIFIED:20230628T031930Z
UID:10000872-1712482200-1712485800@www.cbcwinfield.com
SUMMARY:Sunday School
DESCRIPTION:
URL:https://www.cbcwinfield.com/event/sunday-school/2024-04-07/
LOCATION:Central Baptist Church\, 904 Wheat Rd\, Winfield\, KS\, 67156\, United States
CATEGORIES:Education
ORGANIZER;CN="Central Baptist Church":MAILTO:office@cbcwinfield.com
END:VEVENT
BEGIN:VEVENT
DTSTART;TZID=America/Chicago:20240403T180000
DTEND;TZID=America/Chicago:20240403T193000
DTSTAMP:20260423T013559
CREATED:20240429T210145Z
LAST-MODIFIED:20240429T210145Z
UID:10001375-1712167200-1712172600@www.cbcwinfield.com
SUMMARY:Mid-Week Bible Study
DESCRIPTION:
URL:https://www.cbcwinfield.com/event/mid-week-bible-study/2024-04-03/
LOCATION:Central Baptist Church\, 904 Wheat Rd\, Winfield\, KS\, 67156\, United States
CATEGORIES:CBCYouth,Education,Fellowship
ORGANIZER;CN="Central Baptist Church":MAILTO:office@cbcwinfield.com
END:VEVENT
BEGIN:VEVENT
DTSTART;TZID=America/Chicago:20240403T180000
DTEND;TZID=America/Chicago:20240403T193000
DTSTAMP:20260423T013559
CREATED:20230627T195440Z
LAST-MODIFIED:20230628T033445Z
UID:10000078-1712167200-1712172600@www.cbcwinfield.com
SUMMARY:Youth Group
DESCRIPTION:CBCYouth welcomes all students in grades 6th – 12th!
URL:https://www.cbcwinfield.com/event/youth-group/2024-04-03/
LOCATION:Central Baptist Church\, 904 Wheat Rd\, Winfield\, KS\, 67156\, United States
CATEGORIES:CBCYouth
END:VEVENT
BEGIN:VEVENT
DTSTART;TZID=America/Chicago:20240401T130000
DTEND;TZID=America/Chicago:20240401T140000
DTSTAMP:20260423T013559
CREATED:20230628T031732Z
LAST-MODIFIED:20230628T031732Z
UID:10000607-1711976400-1711980000@www.cbcwinfield.com
SUMMARY:Adult Bible Study
DESCRIPTION:
URL:https://www.cbcwinfield.com/event/adult-bible-study-3/2024-04-01/
LOCATION:Central Baptist Church\, 904 Wheat Rd\, Winfield\, KS\, 67156\, United States
CATEGORIES:Education
ORGANIZER;CN="Central Baptist Church":MAILTO:office@cbcwinfield.com
END:VEVENT
BEGIN:VEVENT
DTSTART;TZID=America/Chicago:20240331T105000
DTEND;TZID=America/Chicago:20240331T115000
DTSTAMP:20260423T013559
CREATED:20230628T032028Z
LAST-MODIFIED:20230628T032029Z
UID:10000341-1711882200-1711885800@www.cbcwinfield.com
SUMMARY:Worship Service
DESCRIPTION:Join us every Sunday for worship! \nIn person at 904 Wheat Road in Winfield\, KS or on Facebook for our livestream!
URL:https://www.cbcwinfield.com/event/worship-service-2-2/2024-03-31/
LOCATION:Central Baptist Church\, 904 Wheat Rd\, Winfield\, KS\, 67156\, United States
CATEGORIES:Worship Services
ORGANIZER;CN="Central Baptist Church":MAILTO:office@cbcwinfield.com
END:VEVENT
BEGIN:VEVENT
DTSTART;TZID=America/Chicago:20240331T093000
DTEND;TZID=America/Chicago:20240331T103000
DTSTAMP:20260423T013559
CREATED:20230627T195030Z
LAST-MODIFIED:20230628T031930Z
UID:10000871-1711877400-1711881000@www.cbcwinfield.com
SUMMARY:Sunday School
DESCRIPTION:
URL:https://www.cbcwinfield.com/event/sunday-school/2024-03-31/
LOCATION:Central Baptist Church\, 904 Wheat Rd\, Winfield\, KS\, 67156\, United States
CATEGORIES:Education
ORGANIZER;CN="Central Baptist Church":MAILTO:office@cbcwinfield.com
END:VEVENT
END:VCALENDAR