BEGIN:VCALENDAR
VERSION:2.0
PRODID:-//Central Baptist Church - ECPv6.15.20//NONSGML v1.0//EN
CALSCALE:GREGORIAN
METHOD:PUBLISH
X-ORIGINAL-URL:https://www.cbcwinfield.com
X-WR-CALDESC:Events for Central Baptist Church
REFRESH-INTERVAL;VALUE=DURATION:PT1H
X-Robots-Tag:noindex
X-PUBLISHED-TTL:PT1H
BEGIN:VTIMEZONE
TZID:America/Chicago
BEGIN:DAYLIGHT
TZOFFSETFROM:-0600
TZOFFSETTO:-0500
TZNAME:CDT
DTSTART:20260308T080000
END:DAYLIGHT
BEGIN:STANDARD
TZOFFSETFROM:-0500
TZOFFSETTO:-0600
TZNAME:CST
DTSTART:20261101T070000
END:STANDARD
BEGIN:DAYLIGHT
TZOFFSETFROM:-0600
TZOFFSETTO:-0500
TZNAME:CDT
DTSTART:20270314T080000
END:DAYLIGHT
BEGIN:STANDARD
TZOFFSETFROM:-0500
TZOFFSETTO:-0600
TZNAME:CST
DTSTART:20271107T070000
END:STANDARD
BEGIN:DAYLIGHT
TZOFFSETFROM:-0600
TZOFFSETTO:-0500
TZNAME:CDT
DTSTART:20280312T080000
END:DAYLIGHT
BEGIN:STANDARD
TZOFFSETFROM:-0500
TZOFFSETTO:-0600
TZNAME:CST
DTSTART:20281105T070000
END:STANDARD
END:VTIMEZONE
BEGIN:VEVENT
DTSTART;TZID=America/Chicago:20270908T180000
DTEND;TZID=America/Chicago:20270908T193000
DTSTAMP:20260421T182321
CREATED:20240429T210145Z
LAST-MODIFIED:20240429T210145Z
UID:10001554-1820426400-1820431800@www.cbcwinfield.com
SUMMARY:Mid-Week Bible Study
DESCRIPTION:
URL:https://www.cbcwinfield.com/event/mid-week-bible-study/2027-09-08/
LOCATION:Central Baptist Church\, 904 Wheat Rd\, Winfield\, KS\, 67156\, United States
CATEGORIES:CBCYouth,Education,Fellowship
ORGANIZER;CN="Central Baptist Church":MAILTO:office@cbcwinfield.com
END:VEVENT
BEGIN:VEVENT
DTSTART;TZID=America/Chicago:20270912T093000
DTEND;TZID=America/Chicago:20270912T103000
DTSTAMP:20260421T182321
CREATED:20230627T195030Z
LAST-MODIFIED:20230628T031930Z
UID:10001051-1820741400-1820745000@www.cbcwinfield.com
SUMMARY:Sunday School
DESCRIPTION:
URL:https://www.cbcwinfield.com/event/sunday-school/2027-09-12/
LOCATION:Central Baptist Church\, 904 Wheat Rd\, Winfield\, KS\, 67156\, United States
CATEGORIES:Education
ORGANIZER;CN="Central Baptist Church":MAILTO:office@cbcwinfield.com
END:VEVENT
BEGIN:VEVENT
DTSTART;TZID=America/Chicago:20270912T105000
DTEND;TZID=America/Chicago:20270912T115000
DTSTAMP:20260421T182321
CREATED:20230628T032028Z
LAST-MODIFIED:20230628T032029Z
UID:10000521-1820746200-1820749800@www.cbcwinfield.com
SUMMARY:Worship Service
DESCRIPTION:Join us every Sunday for worship! \nIn person at 904 Wheat Road in Winfield\, KS or on Facebook for our livestream!
URL:https://www.cbcwinfield.com/event/worship-service-2-2/2027-09-12/
LOCATION:Central Baptist Church\, 904 Wheat Rd\, Winfield\, KS\, 67156\, United States
CATEGORIES:Worship Services
ORGANIZER;CN="Central Baptist Church":MAILTO:office@cbcwinfield.com
END:VEVENT
BEGIN:VEVENT
DTSTART;TZID=America/Chicago:20270913T130000
DTEND;TZID=America/Chicago:20270913T140000
DTSTAMP:20260421T182321
CREATED:20230628T031732Z
LAST-MODIFIED:20230628T031732Z
UID:10000787-1820840400-1820844000@www.cbcwinfield.com
SUMMARY:Adult Bible Study
DESCRIPTION:
URL:https://www.cbcwinfield.com/event/adult-bible-study-3/2027-09-13/
LOCATION:Central Baptist Church\, 904 Wheat Rd\, Winfield\, KS\, 67156\, United States
CATEGORIES:Education
ORGANIZER;CN="Central Baptist Church":MAILTO:office@cbcwinfield.com
END:VEVENT
BEGIN:VEVENT
DTSTART;TZID=America/Chicago:20270915T180000
DTEND;TZID=America/Chicago:20270915T193000
DTSTAMP:20260421T182321
CREATED:20230627T195440Z
LAST-MODIFIED:20230628T033445Z
UID:10000258-1821031200-1821036600@www.cbcwinfield.com
SUMMARY:Youth Group
DESCRIPTION:CBCYouth welcomes all students in grades 6th – 12th!
URL:https://www.cbcwinfield.com/event/youth-group/2027-09-15/
LOCATION:Central Baptist Church\, 904 Wheat Rd\, Winfield\, KS\, 67156\, United States
CATEGORIES:CBCYouth
END:VEVENT
BEGIN:VEVENT
DTSTART;TZID=America/Chicago:20270915T180000
DTEND;TZID=America/Chicago:20270915T193000
DTSTAMP:20260421T182321
CREATED:20240429T210145Z
LAST-MODIFIED:20240429T210145Z
UID:10001555-1821031200-1821036600@www.cbcwinfield.com
SUMMARY:Mid-Week Bible Study
DESCRIPTION:
URL:https://www.cbcwinfield.com/event/mid-week-bible-study/2027-09-15/
LOCATION:Central Baptist Church\, 904 Wheat Rd\, Winfield\, KS\, 67156\, United States
CATEGORIES:CBCYouth,Education,Fellowship
ORGANIZER;CN="Central Baptist Church":MAILTO:office@cbcwinfield.com
END:VEVENT
BEGIN:VEVENT
DTSTART;TZID=America/Chicago:20270919T093000
DTEND;TZID=America/Chicago:20270919T103000
DTSTAMP:20260421T182321
CREATED:20230627T195030Z
LAST-MODIFIED:20230628T031930Z
UID:10001052-1821346200-1821349800@www.cbcwinfield.com
SUMMARY:Sunday School
DESCRIPTION:
URL:https://www.cbcwinfield.com/event/sunday-school/2027-09-19/
LOCATION:Central Baptist Church\, 904 Wheat Rd\, Winfield\, KS\, 67156\, United States
CATEGORIES:Education
ORGANIZER;CN="Central Baptist Church":MAILTO:office@cbcwinfield.com
END:VEVENT
BEGIN:VEVENT
DTSTART;TZID=America/Chicago:20270919T105000
DTEND;TZID=America/Chicago:20270919T115000
DTSTAMP:20260421T182321
CREATED:20230628T032028Z
LAST-MODIFIED:20230628T032029Z
UID:10000522-1821351000-1821354600@www.cbcwinfield.com
SUMMARY:Worship Service
DESCRIPTION:Join us every Sunday for worship! \nIn person at 904 Wheat Road in Winfield\, KS or on Facebook for our livestream!
URL:https://www.cbcwinfield.com/event/worship-service-2-2/2027-09-19/
LOCATION:Central Baptist Church\, 904 Wheat Rd\, Winfield\, KS\, 67156\, United States
CATEGORIES:Worship Services
ORGANIZER;CN="Central Baptist Church":MAILTO:office@cbcwinfield.com
END:VEVENT
BEGIN:VEVENT
DTSTART;TZID=America/Chicago:20270920T130000
DTEND;TZID=America/Chicago:20270920T140000
DTSTAMP:20260421T182321
CREATED:20230628T031732Z
LAST-MODIFIED:20230628T031732Z
UID:10000788-1821445200-1821448800@www.cbcwinfield.com
SUMMARY:Adult Bible Study
DESCRIPTION:
URL:https://www.cbcwinfield.com/event/adult-bible-study-3/2027-09-20/
LOCATION:Central Baptist Church\, 904 Wheat Rd\, Winfield\, KS\, 67156\, United States
CATEGORIES:Education
ORGANIZER;CN="Central Baptist Church":MAILTO:office@cbcwinfield.com
END:VEVENT
BEGIN:VEVENT
DTSTART;TZID=America/Chicago:20270922T180000
DTEND;TZID=America/Chicago:20270922T193000
DTSTAMP:20260421T182321
CREATED:20230627T195440Z
LAST-MODIFIED:20230628T033445Z
UID:10000259-1821636000-1821641400@www.cbcwinfield.com
SUMMARY:Youth Group
DESCRIPTION:CBCYouth welcomes all students in grades 6th – 12th!
URL:https://www.cbcwinfield.com/event/youth-group/2027-09-22/
LOCATION:Central Baptist Church\, 904 Wheat Rd\, Winfield\, KS\, 67156\, United States
CATEGORIES:CBCYouth
END:VEVENT
BEGIN:VEVENT
DTSTART;TZID=America/Chicago:20270922T180000
DTEND;TZID=America/Chicago:20270922T193000
DTSTAMP:20260421T182321
CREATED:20240429T210145Z
LAST-MODIFIED:20240429T210145Z
UID:10001556-1821636000-1821641400@www.cbcwinfield.com
SUMMARY:Mid-Week Bible Study
DESCRIPTION:
URL:https://www.cbcwinfield.com/event/mid-week-bible-study/2027-09-22/
LOCATION:Central Baptist Church\, 904 Wheat Rd\, Winfield\, KS\, 67156\, United States
CATEGORIES:CBCYouth,Education,Fellowship
ORGANIZER;CN="Central Baptist Church":MAILTO:office@cbcwinfield.com
END:VEVENT
BEGIN:VEVENT
DTSTART;TZID=America/Chicago:20270926T093000
DTEND;TZID=America/Chicago:20270926T103000
DTSTAMP:20260421T182321
CREATED:20230627T195030Z
LAST-MODIFIED:20230628T031930Z
UID:10001053-1821951000-1821954600@www.cbcwinfield.com
SUMMARY:Sunday School
DESCRIPTION:
URL:https://www.cbcwinfield.com/event/sunday-school/2027-09-26/
LOCATION:Central Baptist Church\, 904 Wheat Rd\, Winfield\, KS\, 67156\, United States
CATEGORIES:Education
ORGANIZER;CN="Central Baptist Church":MAILTO:office@cbcwinfield.com
END:VEVENT
BEGIN:VEVENT
DTSTART;TZID=America/Chicago:20270926T105000
DTEND;TZID=America/Chicago:20270926T115000
DTSTAMP:20260421T182321
CREATED:20230628T032028Z
LAST-MODIFIED:20230628T032029Z
UID:10000523-1821955800-1821959400@www.cbcwinfield.com
SUMMARY:Worship Service
DESCRIPTION:Join us every Sunday for worship! \nIn person at 904 Wheat Road in Winfield\, KS or on Facebook for our livestream!
URL:https://www.cbcwinfield.com/event/worship-service-2-2/2027-09-26/
LOCATION:Central Baptist Church\, 904 Wheat Rd\, Winfield\, KS\, 67156\, United States
CATEGORIES:Worship Services
ORGANIZER;CN="Central Baptist Church":MAILTO:office@cbcwinfield.com
END:VEVENT
BEGIN:VEVENT
DTSTART;TZID=America/Chicago:20270927T130000
DTEND;TZID=America/Chicago:20270927T140000
DTSTAMP:20260421T182321
CREATED:20230628T031732Z
LAST-MODIFIED:20230628T031732Z
UID:10000789-1822050000-1822053600@www.cbcwinfield.com
SUMMARY:Adult Bible Study
DESCRIPTION:
URL:https://www.cbcwinfield.com/event/adult-bible-study-3/2027-09-27/
LOCATION:Central Baptist Church\, 904 Wheat Rd\, Winfield\, KS\, 67156\, United States
CATEGORIES:Education
ORGANIZER;CN="Central Baptist Church":MAILTO:office@cbcwinfield.com
END:VEVENT
BEGIN:VEVENT
DTSTART;TZID=America/Chicago:20270929T180000
DTEND;TZID=America/Chicago:20270929T193000
DTSTAMP:20260421T182321
CREATED:20230627T195440Z
LAST-MODIFIED:20230628T033445Z
UID:10000260-1822240800-1822246200@www.cbcwinfield.com
SUMMARY:Youth Group
DESCRIPTION:CBCYouth welcomes all students in grades 6th – 12th!
URL:https://www.cbcwinfield.com/event/youth-group/2027-09-29/
LOCATION:Central Baptist Church\, 904 Wheat Rd\, Winfield\, KS\, 67156\, United States
CATEGORIES:CBCYouth
END:VEVENT
BEGIN:VEVENT
DTSTART;TZID=America/Chicago:20270929T180000
DTEND;TZID=America/Chicago:20270929T193000
DTSTAMP:20260421T182321
CREATED:20240429T210145Z
LAST-MODIFIED:20240429T210145Z
UID:10001557-1822240800-1822246200@www.cbcwinfield.com
SUMMARY:Mid-Week Bible Study
DESCRIPTION:
URL:https://www.cbcwinfield.com/event/mid-week-bible-study/2027-09-29/
LOCATION:Central Baptist Church\, 904 Wheat Rd\, Winfield\, KS\, 67156\, United States
CATEGORIES:CBCYouth,Education,Fellowship
ORGANIZER;CN="Central Baptist Church":MAILTO:office@cbcwinfield.com
END:VEVENT
BEGIN:VEVENT
DTSTART;TZID=America/Chicago:20271003T093000
DTEND;TZID=America/Chicago:20271003T103000
DTSTAMP:20260421T182321
CREATED:20230627T195030Z
LAST-MODIFIED:20230628T031930Z
UID:10001054-1822555800-1822559400@www.cbcwinfield.com
SUMMARY:Sunday School
DESCRIPTION:
URL:https://www.cbcwinfield.com/event/sunday-school/2027-10-03/
LOCATION:Central Baptist Church\, 904 Wheat Rd\, Winfield\, KS\, 67156\, United States
CATEGORIES:Education
ORGANIZER;CN="Central Baptist Church":MAILTO:office@cbcwinfield.com
END:VEVENT
BEGIN:VEVENT
DTSTART;TZID=America/Chicago:20271003T105000
DTEND;TZID=America/Chicago:20271003T115000
DTSTAMP:20260421T182321
CREATED:20230628T032028Z
LAST-MODIFIED:20230628T032029Z
UID:10000524-1822560600-1822564200@www.cbcwinfield.com
SUMMARY:Worship Service
DESCRIPTION:Join us every Sunday for worship! \nIn person at 904 Wheat Road in Winfield\, KS or on Facebook for our livestream!
URL:https://www.cbcwinfield.com/event/worship-service-2-2/2027-10-03/
LOCATION:Central Baptist Church\, 904 Wheat Rd\, Winfield\, KS\, 67156\, United States
CATEGORIES:Worship Services
ORGANIZER;CN="Central Baptist Church":MAILTO:office@cbcwinfield.com
END:VEVENT
BEGIN:VEVENT
DTSTART;TZID=America/Chicago:20271004T130000
DTEND;TZID=America/Chicago:20271004T140000
DTSTAMP:20260421T182321
CREATED:20230628T031732Z
LAST-MODIFIED:20230628T031732Z
UID:10000790-1822654800-1822658400@www.cbcwinfield.com
SUMMARY:Adult Bible Study
DESCRIPTION:
URL:https://www.cbcwinfield.com/event/adult-bible-study-3/2027-10-04/
LOCATION:Central Baptist Church\, 904 Wheat Rd\, Winfield\, KS\, 67156\, United States
CATEGORIES:Education
ORGANIZER;CN="Central Baptist Church":MAILTO:office@cbcwinfield.com
END:VEVENT
BEGIN:VEVENT
DTSTART;TZID=America/Chicago:20271006T180000
DTEND;TZID=America/Chicago:20271006T193000
DTSTAMP:20260421T182321
CREATED:20230627T195440Z
LAST-MODIFIED:20230628T033445Z
UID:10000261-1822845600-1822851000@www.cbcwinfield.com
SUMMARY:Youth Group
DESCRIPTION:CBCYouth welcomes all students in grades 6th – 12th!
URL:https://www.cbcwinfield.com/event/youth-group/2027-10-06/
LOCATION:Central Baptist Church\, 904 Wheat Rd\, Winfield\, KS\, 67156\, United States
CATEGORIES:CBCYouth
END:VEVENT
BEGIN:VEVENT
DTSTART;TZID=America/Chicago:20271006T180000
DTEND;TZID=America/Chicago:20271006T193000
DTSTAMP:20260421T182321
CREATED:20240429T210145Z
LAST-MODIFIED:20240429T210145Z
UID:10001558-1822845600-1822851000@www.cbcwinfield.com
SUMMARY:Mid-Week Bible Study
DESCRIPTION:
URL:https://www.cbcwinfield.com/event/mid-week-bible-study/2027-10-06/
LOCATION:Central Baptist Church\, 904 Wheat Rd\, Winfield\, KS\, 67156\, United States
CATEGORIES:CBCYouth,Education,Fellowship
ORGANIZER;CN="Central Baptist Church":MAILTO:office@cbcwinfield.com
END:VEVENT
BEGIN:VEVENT
DTSTART;TZID=America/Chicago:20271010T093000
DTEND;TZID=America/Chicago:20271010T103000
DTSTAMP:20260421T182321
CREATED:20230627T195030Z
LAST-MODIFIED:20230628T031930Z
UID:10001055-1823160600-1823164200@www.cbcwinfield.com
SUMMARY:Sunday School
DESCRIPTION:
URL:https://www.cbcwinfield.com/event/sunday-school/2027-10-10/
LOCATION:Central Baptist Church\, 904 Wheat Rd\, Winfield\, KS\, 67156\, United States
CATEGORIES:Education
ORGANIZER;CN="Central Baptist Church":MAILTO:office@cbcwinfield.com
END:VEVENT
BEGIN:VEVENT
DTSTART;TZID=America/Chicago:20271010T105000
DTEND;TZID=America/Chicago:20271010T115000
DTSTAMP:20260421T182321
CREATED:20230628T032028Z
LAST-MODIFIED:20230628T032029Z
UID:10000525-1823165400-1823169000@www.cbcwinfield.com
SUMMARY:Worship Service
DESCRIPTION:Join us every Sunday for worship! \nIn person at 904 Wheat Road in Winfield\, KS or on Facebook for our livestream!
URL:https://www.cbcwinfield.com/event/worship-service-2-2/2027-10-10/
LOCATION:Central Baptist Church\, 904 Wheat Rd\, Winfield\, KS\, 67156\, United States
CATEGORIES:Worship Services
ORGANIZER;CN="Central Baptist Church":MAILTO:office@cbcwinfield.com
END:VEVENT
BEGIN:VEVENT
DTSTART;TZID=America/Chicago:20271011T130000
DTEND;TZID=America/Chicago:20271011T140000
DTSTAMP:20260421T182321
CREATED:20230628T031732Z
LAST-MODIFIED:20230628T031732Z
UID:10000791-1823259600-1823263200@www.cbcwinfield.com
SUMMARY:Adult Bible Study
DESCRIPTION:
URL:https://www.cbcwinfield.com/event/adult-bible-study-3/2027-10-11/
LOCATION:Central Baptist Church\, 904 Wheat Rd\, Winfield\, KS\, 67156\, United States
CATEGORIES:Education
ORGANIZER;CN="Central Baptist Church":MAILTO:office@cbcwinfield.com
END:VEVENT
BEGIN:VEVENT
DTSTART;TZID=America/Chicago:20271013T180000
DTEND;TZID=America/Chicago:20271013T193000
DTSTAMP:20260421T182321
CREATED:20230627T195440Z
LAST-MODIFIED:20230628T033445Z
UID:10000262-1823450400-1823455800@www.cbcwinfield.com
SUMMARY:Youth Group
DESCRIPTION:CBCYouth welcomes all students in grades 6th – 12th!
URL:https://www.cbcwinfield.com/event/youth-group/2027-10-13/
LOCATION:Central Baptist Church\, 904 Wheat Rd\, Winfield\, KS\, 67156\, United States
CATEGORIES:CBCYouth
END:VEVENT
BEGIN:VEVENT
DTSTART;TZID=America/Chicago:20271013T180000
DTEND;TZID=America/Chicago:20271013T193000
DTSTAMP:20260421T182321
CREATED:20240429T210145Z
LAST-MODIFIED:20240429T210145Z
UID:10001559-1823450400-1823455800@www.cbcwinfield.com
SUMMARY:Mid-Week Bible Study
DESCRIPTION:
URL:https://www.cbcwinfield.com/event/mid-week-bible-study/2027-10-13/
LOCATION:Central Baptist Church\, 904 Wheat Rd\, Winfield\, KS\, 67156\, United States
CATEGORIES:CBCYouth,Education,Fellowship
ORGANIZER;CN="Central Baptist Church":MAILTO:office@cbcwinfield.com
END:VEVENT
BEGIN:VEVENT
DTSTART;TZID=America/Chicago:20271017T093000
DTEND;TZID=America/Chicago:20271017T103000
DTSTAMP:20260421T182321
CREATED:20230627T195030Z
LAST-MODIFIED:20230628T031930Z
UID:10001056-1823765400-1823769000@www.cbcwinfield.com
SUMMARY:Sunday School
DESCRIPTION:
URL:https://www.cbcwinfield.com/event/sunday-school/2027-10-17/
LOCATION:Central Baptist Church\, 904 Wheat Rd\, Winfield\, KS\, 67156\, United States
CATEGORIES:Education
ORGANIZER;CN="Central Baptist Church":MAILTO:office@cbcwinfield.com
END:VEVENT
BEGIN:VEVENT
DTSTART;TZID=America/Chicago:20271017T105000
DTEND;TZID=America/Chicago:20271017T115000
DTSTAMP:20260421T182321
CREATED:20230628T032028Z
LAST-MODIFIED:20230628T032029Z
UID:10000526-1823770200-1823773800@www.cbcwinfield.com
SUMMARY:Worship Service
DESCRIPTION:Join us every Sunday for worship! \nIn person at 904 Wheat Road in Winfield\, KS or on Facebook for our livestream!
URL:https://www.cbcwinfield.com/event/worship-service-2-2/2027-10-17/
LOCATION:Central Baptist Church\, 904 Wheat Rd\, Winfield\, KS\, 67156\, United States
CATEGORIES:Worship Services
ORGANIZER;CN="Central Baptist Church":MAILTO:office@cbcwinfield.com
END:VEVENT
BEGIN:VEVENT
DTSTART;TZID=America/Chicago:20271018T130000
DTEND;TZID=America/Chicago:20271018T140000
DTSTAMP:20260421T182321
CREATED:20230628T031732Z
LAST-MODIFIED:20230628T031732Z
UID:10000792-1823864400-1823868000@www.cbcwinfield.com
SUMMARY:Adult Bible Study
DESCRIPTION:
URL:https://www.cbcwinfield.com/event/adult-bible-study-3/2027-10-18/
LOCATION:Central Baptist Church\, 904 Wheat Rd\, Winfield\, KS\, 67156\, United States
CATEGORIES:Education
ORGANIZER;CN="Central Baptist Church":MAILTO:office@cbcwinfield.com
END:VEVENT
BEGIN:VEVENT
DTSTART;TZID=America/Chicago:20271020T180000
DTEND;TZID=America/Chicago:20271020T193000
DTSTAMP:20260421T182321
CREATED:20230627T195440Z
LAST-MODIFIED:20230628T033445Z
UID:10000263-1824055200-1824060600@www.cbcwinfield.com
SUMMARY:Youth Group
DESCRIPTION:CBCYouth welcomes all students in grades 6th – 12th!
URL:https://www.cbcwinfield.com/event/youth-group/2027-10-20/
LOCATION:Central Baptist Church\, 904 Wheat Rd\, Winfield\, KS\, 67156\, United States
CATEGORIES:CBCYouth
END:VEVENT
END:VCALENDAR