BEGIN:VCALENDAR
VERSION:2.0
PRODID:-//Central Baptist Church - ECPv6.15.20//NONSGML v1.0//EN
CALSCALE:GREGORIAN
METHOD:PUBLISH
X-WR-CALNAME:Central Baptist Church
X-ORIGINAL-URL:https://www.cbcwinfield.com
X-WR-CALDESC:Events for Central Baptist Church
REFRESH-INTERVAL;VALUE=DURATION:PT1H
X-Robots-Tag:noindex
X-PUBLISHED-TTL:PT1H
BEGIN:VTIMEZONE
TZID:America/Chicago
BEGIN:DAYLIGHT
TZOFFSETFROM:-0600
TZOFFSETTO:-0500
TZNAME:CDT
DTSTART:20260308T080000
END:DAYLIGHT
BEGIN:STANDARD
TZOFFSETFROM:-0500
TZOFFSETTO:-0600
TZNAME:CST
DTSTART:20261101T070000
END:STANDARD
BEGIN:DAYLIGHT
TZOFFSETFROM:-0600
TZOFFSETTO:-0500
TZNAME:CDT
DTSTART:20270314T080000
END:DAYLIGHT
BEGIN:STANDARD
TZOFFSETFROM:-0500
TZOFFSETTO:-0600
TZNAME:CST
DTSTART:20271107T070000
END:STANDARD
BEGIN:DAYLIGHT
TZOFFSETFROM:-0600
TZOFFSETTO:-0500
TZNAME:CDT
DTSTART:20280312T080000
END:DAYLIGHT
BEGIN:STANDARD
TZOFFSETFROM:-0500
TZOFFSETTO:-0600
TZNAME:CST
DTSTART:20281105T070000
END:STANDARD
END:VTIMEZONE
BEGIN:VEVENT
DTSTART;TZID=America/Chicago:20270224T180000
DTEND;TZID=America/Chicago:20270224T193000
DTSTAMP:20260420T171822
CREATED:20240429T210145Z
LAST-MODIFIED:20240429T210145Z
UID:10001526-1803492000-1803497400@www.cbcwinfield.com
SUMMARY:Mid-Week Bible Study
DESCRIPTION:
URL:https://www.cbcwinfield.com/event/mid-week-bible-study/2027-02-24/
LOCATION:Central Baptist Church\, 904 Wheat Rd\, Winfield\, KS\, 67156\, United States
CATEGORIES:CBCYouth,Education,Fellowship
ORGANIZER;CN="Central Baptist Church":MAILTO:office@cbcwinfield.com
END:VEVENT
BEGIN:VEVENT
DTSTART;TZID=America/Chicago:20270228T093000
DTEND;TZID=America/Chicago:20270228T103000
DTSTAMP:20260420T171822
CREATED:20230627T195030Z
LAST-MODIFIED:20230628T031930Z
UID:10001023-1803807000-1803810600@www.cbcwinfield.com
SUMMARY:Sunday School
DESCRIPTION:
URL:https://www.cbcwinfield.com/event/sunday-school/2027-02-28/
LOCATION:Central Baptist Church\, 904 Wheat Rd\, Winfield\, KS\, 67156\, United States
CATEGORIES:Education
ORGANIZER;CN="Central Baptist Church":MAILTO:office@cbcwinfield.com
END:VEVENT
BEGIN:VEVENT
DTSTART;TZID=America/Chicago:20270228T105000
DTEND;TZID=America/Chicago:20270228T115000
DTSTAMP:20260420T171822
CREATED:20230628T032028Z
LAST-MODIFIED:20230628T032029Z
UID:10000493-1803811800-1803815400@www.cbcwinfield.com
SUMMARY:Worship Service
DESCRIPTION:Join us every Sunday for worship! \nIn person at 904 Wheat Road in Winfield\, KS or on Facebook for our livestream!
URL:https://www.cbcwinfield.com/event/worship-service-2-2/2027-02-28/
LOCATION:Central Baptist Church\, 904 Wheat Rd\, Winfield\, KS\, 67156\, United States
CATEGORIES:Worship Services
ORGANIZER;CN="Central Baptist Church":MAILTO:office@cbcwinfield.com
END:VEVENT
BEGIN:VEVENT
DTSTART;TZID=America/Chicago:20270301T130000
DTEND;TZID=America/Chicago:20270301T140000
DTSTAMP:20260420T171822
CREATED:20230628T031732Z
LAST-MODIFIED:20230628T031732Z
UID:10000759-1803906000-1803909600@www.cbcwinfield.com
SUMMARY:Adult Bible Study
DESCRIPTION:
URL:https://www.cbcwinfield.com/event/adult-bible-study-3/2027-03-01/
LOCATION:Central Baptist Church\, 904 Wheat Rd\, Winfield\, KS\, 67156\, United States
CATEGORIES:Education
ORGANIZER;CN="Central Baptist Church":MAILTO:office@cbcwinfield.com
END:VEVENT
BEGIN:VEVENT
DTSTART;TZID=America/Chicago:20270303T180000
DTEND;TZID=America/Chicago:20270303T193000
DTSTAMP:20260420T171822
CREATED:20230627T195440Z
LAST-MODIFIED:20230628T033445Z
UID:10000230-1804096800-1804102200@www.cbcwinfield.com
SUMMARY:Youth Group
DESCRIPTION:CBCYouth welcomes all students in grades 6th – 12th!
URL:https://www.cbcwinfield.com/event/youth-group/2027-03-03/
LOCATION:Central Baptist Church\, 904 Wheat Rd\, Winfield\, KS\, 67156\, United States
CATEGORIES:CBCYouth
END:VEVENT
BEGIN:VEVENT
DTSTART;TZID=America/Chicago:20270303T180000
DTEND;TZID=America/Chicago:20270303T193000
DTSTAMP:20260420T171822
CREATED:20240429T210145Z
LAST-MODIFIED:20240429T210145Z
UID:10001527-1804096800-1804102200@www.cbcwinfield.com
SUMMARY:Mid-Week Bible Study
DESCRIPTION:
URL:https://www.cbcwinfield.com/event/mid-week-bible-study/2027-03-03/
LOCATION:Central Baptist Church\, 904 Wheat Rd\, Winfield\, KS\, 67156\, United States
CATEGORIES:CBCYouth,Education,Fellowship
ORGANIZER;CN="Central Baptist Church":MAILTO:office@cbcwinfield.com
END:VEVENT
BEGIN:VEVENT
DTSTART;TZID=America/Chicago:20270307T093000
DTEND;TZID=America/Chicago:20270307T103000
DTSTAMP:20260420T171822
CREATED:20230627T195030Z
LAST-MODIFIED:20230628T031930Z
UID:10001024-1804411800-1804415400@www.cbcwinfield.com
SUMMARY:Sunday School
DESCRIPTION:
URL:https://www.cbcwinfield.com/event/sunday-school/2027-03-07/
LOCATION:Central Baptist Church\, 904 Wheat Rd\, Winfield\, KS\, 67156\, United States
CATEGORIES:Education
ORGANIZER;CN="Central Baptist Church":MAILTO:office@cbcwinfield.com
END:VEVENT
BEGIN:VEVENT
DTSTART;TZID=America/Chicago:20270307T105000
DTEND;TZID=America/Chicago:20270307T115000
DTSTAMP:20260420T171822
CREATED:20230628T032028Z
LAST-MODIFIED:20230628T032029Z
UID:10000494-1804416600-1804420200@www.cbcwinfield.com
SUMMARY:Worship Service
DESCRIPTION:Join us every Sunday for worship! \nIn person at 904 Wheat Road in Winfield\, KS or on Facebook for our livestream!
URL:https://www.cbcwinfield.com/event/worship-service-2-2/2027-03-07/
LOCATION:Central Baptist Church\, 904 Wheat Rd\, Winfield\, KS\, 67156\, United States
CATEGORIES:Worship Services
ORGANIZER;CN="Central Baptist Church":MAILTO:office@cbcwinfield.com
END:VEVENT
BEGIN:VEVENT
DTSTART;TZID=America/Chicago:20270308T130000
DTEND;TZID=America/Chicago:20270308T140000
DTSTAMP:20260420T171822
CREATED:20230628T031732Z
LAST-MODIFIED:20230628T031732Z
UID:10000760-1804510800-1804514400@www.cbcwinfield.com
SUMMARY:Adult Bible Study
DESCRIPTION:
URL:https://www.cbcwinfield.com/event/adult-bible-study-3/2027-03-08/
LOCATION:Central Baptist Church\, 904 Wheat Rd\, Winfield\, KS\, 67156\, United States
CATEGORIES:Education
ORGANIZER;CN="Central Baptist Church":MAILTO:office@cbcwinfield.com
END:VEVENT
BEGIN:VEVENT
DTSTART;TZID=America/Chicago:20270310T180000
DTEND;TZID=America/Chicago:20270310T193000
DTSTAMP:20260420T171822
CREATED:20230627T195440Z
LAST-MODIFIED:20230628T033445Z
UID:10000231-1804701600-1804707000@www.cbcwinfield.com
SUMMARY:Youth Group
DESCRIPTION:CBCYouth welcomes all students in grades 6th – 12th!
URL:https://www.cbcwinfield.com/event/youth-group/2027-03-10/
LOCATION:Central Baptist Church\, 904 Wheat Rd\, Winfield\, KS\, 67156\, United States
CATEGORIES:CBCYouth
END:VEVENT
BEGIN:VEVENT
DTSTART;TZID=America/Chicago:20270310T180000
DTEND;TZID=America/Chicago:20270310T193000
DTSTAMP:20260420T171822
CREATED:20240429T210145Z
LAST-MODIFIED:20240429T210145Z
UID:10001528-1804701600-1804707000@www.cbcwinfield.com
SUMMARY:Mid-Week Bible Study
DESCRIPTION:
URL:https://www.cbcwinfield.com/event/mid-week-bible-study/2027-03-10/
LOCATION:Central Baptist Church\, 904 Wheat Rd\, Winfield\, KS\, 67156\, United States
CATEGORIES:CBCYouth,Education,Fellowship
ORGANIZER;CN="Central Baptist Church":MAILTO:office@cbcwinfield.com
END:VEVENT
BEGIN:VEVENT
DTSTART;TZID=America/Chicago:20270314T093000
DTEND;TZID=America/Chicago:20270314T103000
DTSTAMP:20260420T171822
CREATED:20230627T195030Z
LAST-MODIFIED:20230628T031930Z
UID:10001025-1805016600-1805020200@www.cbcwinfield.com
SUMMARY:Sunday School
DESCRIPTION:
URL:https://www.cbcwinfield.com/event/sunday-school/2027-03-14/
LOCATION:Central Baptist Church\, 904 Wheat Rd\, Winfield\, KS\, 67156\, United States
CATEGORIES:Education
ORGANIZER;CN="Central Baptist Church":MAILTO:office@cbcwinfield.com
END:VEVENT
BEGIN:VEVENT
DTSTART;TZID=America/Chicago:20270314T105000
DTEND;TZID=America/Chicago:20270314T115000
DTSTAMP:20260420T171822
CREATED:20230628T032028Z
LAST-MODIFIED:20230628T032029Z
UID:10000495-1805021400-1805025000@www.cbcwinfield.com
SUMMARY:Worship Service
DESCRIPTION:Join us every Sunday for worship! \nIn person at 904 Wheat Road in Winfield\, KS or on Facebook for our livestream!
URL:https://www.cbcwinfield.com/event/worship-service-2-2/2027-03-14/
LOCATION:Central Baptist Church\, 904 Wheat Rd\, Winfield\, KS\, 67156\, United States
CATEGORIES:Worship Services
ORGANIZER;CN="Central Baptist Church":MAILTO:office@cbcwinfield.com
END:VEVENT
BEGIN:VEVENT
DTSTART;TZID=America/Chicago:20270315T130000
DTEND;TZID=America/Chicago:20270315T140000
DTSTAMP:20260420T171822
CREATED:20230628T031732Z
LAST-MODIFIED:20230628T031732Z
UID:10000761-1805115600-1805119200@www.cbcwinfield.com
SUMMARY:Adult Bible Study
DESCRIPTION:
URL:https://www.cbcwinfield.com/event/adult-bible-study-3/2027-03-15/
LOCATION:Central Baptist Church\, 904 Wheat Rd\, Winfield\, KS\, 67156\, United States
CATEGORIES:Education
ORGANIZER;CN="Central Baptist Church":MAILTO:office@cbcwinfield.com
END:VEVENT
BEGIN:VEVENT
DTSTART;TZID=America/Chicago:20270317T180000
DTEND;TZID=America/Chicago:20270317T193000
DTSTAMP:20260420T171822
CREATED:20230627T195440Z
LAST-MODIFIED:20230628T033445Z
UID:10000232-1805306400-1805311800@www.cbcwinfield.com
SUMMARY:Youth Group
DESCRIPTION:CBCYouth welcomes all students in grades 6th – 12th!
URL:https://www.cbcwinfield.com/event/youth-group/2027-03-17/
LOCATION:Central Baptist Church\, 904 Wheat Rd\, Winfield\, KS\, 67156\, United States
CATEGORIES:CBCYouth
END:VEVENT
BEGIN:VEVENT
DTSTART;TZID=America/Chicago:20270317T180000
DTEND;TZID=America/Chicago:20270317T193000
DTSTAMP:20260420T171822
CREATED:20240429T210145Z
LAST-MODIFIED:20240429T210145Z
UID:10001529-1805306400-1805311800@www.cbcwinfield.com
SUMMARY:Mid-Week Bible Study
DESCRIPTION:
URL:https://www.cbcwinfield.com/event/mid-week-bible-study/2027-03-17/
LOCATION:Central Baptist Church\, 904 Wheat Rd\, Winfield\, KS\, 67156\, United States
CATEGORIES:CBCYouth,Education,Fellowship
ORGANIZER;CN="Central Baptist Church":MAILTO:office@cbcwinfield.com
END:VEVENT
BEGIN:VEVENT
DTSTART;TZID=America/Chicago:20270321T093000
DTEND;TZID=America/Chicago:20270321T103000
DTSTAMP:20260420T171822
CREATED:20230627T195030Z
LAST-MODIFIED:20230628T031930Z
UID:10001026-1805621400-1805625000@www.cbcwinfield.com
SUMMARY:Sunday School
DESCRIPTION:
URL:https://www.cbcwinfield.com/event/sunday-school/2027-03-21/
LOCATION:Central Baptist Church\, 904 Wheat Rd\, Winfield\, KS\, 67156\, United States
CATEGORIES:Education
ORGANIZER;CN="Central Baptist Church":MAILTO:office@cbcwinfield.com
END:VEVENT
BEGIN:VEVENT
DTSTART;TZID=America/Chicago:20270321T105000
DTEND;TZID=America/Chicago:20270321T115000
DTSTAMP:20260420T171822
CREATED:20230628T032028Z
LAST-MODIFIED:20230628T032029Z
UID:10000496-1805626200-1805629800@www.cbcwinfield.com
SUMMARY:Worship Service
DESCRIPTION:Join us every Sunday for worship! \nIn person at 904 Wheat Road in Winfield\, KS or on Facebook for our livestream!
URL:https://www.cbcwinfield.com/event/worship-service-2-2/2027-03-21/
LOCATION:Central Baptist Church\, 904 Wheat Rd\, Winfield\, KS\, 67156\, United States
CATEGORIES:Worship Services
ORGANIZER;CN="Central Baptist Church":MAILTO:office@cbcwinfield.com
END:VEVENT
BEGIN:VEVENT
DTSTART;TZID=America/Chicago:20270322T130000
DTEND;TZID=America/Chicago:20270322T140000
DTSTAMP:20260420T171822
CREATED:20230628T031732Z
LAST-MODIFIED:20230628T031732Z
UID:10000762-1805720400-1805724000@www.cbcwinfield.com
SUMMARY:Adult Bible Study
DESCRIPTION:
URL:https://www.cbcwinfield.com/event/adult-bible-study-3/2027-03-22/
LOCATION:Central Baptist Church\, 904 Wheat Rd\, Winfield\, KS\, 67156\, United States
CATEGORIES:Education
ORGANIZER;CN="Central Baptist Church":MAILTO:office@cbcwinfield.com
END:VEVENT
BEGIN:VEVENT
DTSTART;TZID=America/Chicago:20270324T180000
DTEND;TZID=America/Chicago:20270324T193000
DTSTAMP:20260420T171822
CREATED:20230627T195440Z
LAST-MODIFIED:20230628T033445Z
UID:10000233-1805911200-1805916600@www.cbcwinfield.com
SUMMARY:Youth Group
DESCRIPTION:CBCYouth welcomes all students in grades 6th – 12th!
URL:https://www.cbcwinfield.com/event/youth-group/2027-03-24/
LOCATION:Central Baptist Church\, 904 Wheat Rd\, Winfield\, KS\, 67156\, United States
CATEGORIES:CBCYouth
END:VEVENT
BEGIN:VEVENT
DTSTART;TZID=America/Chicago:20270324T180000
DTEND;TZID=America/Chicago:20270324T193000
DTSTAMP:20260420T171822
CREATED:20240429T210145Z
LAST-MODIFIED:20240429T210145Z
UID:10001530-1805911200-1805916600@www.cbcwinfield.com
SUMMARY:Mid-Week Bible Study
DESCRIPTION:
URL:https://www.cbcwinfield.com/event/mid-week-bible-study/2027-03-24/
LOCATION:Central Baptist Church\, 904 Wheat Rd\, Winfield\, KS\, 67156\, United States
CATEGORIES:CBCYouth,Education,Fellowship
ORGANIZER;CN="Central Baptist Church":MAILTO:office@cbcwinfield.com
END:VEVENT
BEGIN:VEVENT
DTSTART;TZID=America/Chicago:20270328T093000
DTEND;TZID=America/Chicago:20270328T103000
DTSTAMP:20260420T171822
CREATED:20230627T195030Z
LAST-MODIFIED:20230628T031930Z
UID:10001027-1806226200-1806229800@www.cbcwinfield.com
SUMMARY:Sunday School
DESCRIPTION:
URL:https://www.cbcwinfield.com/event/sunday-school/2027-03-28/
LOCATION:Central Baptist Church\, 904 Wheat Rd\, Winfield\, KS\, 67156\, United States
CATEGORIES:Education
ORGANIZER;CN="Central Baptist Church":MAILTO:office@cbcwinfield.com
END:VEVENT
BEGIN:VEVENT
DTSTART;TZID=America/Chicago:20270328T105000
DTEND;TZID=America/Chicago:20270328T115000
DTSTAMP:20260420T171822
CREATED:20230628T032028Z
LAST-MODIFIED:20230628T032029Z
UID:10000497-1806231000-1806234600@www.cbcwinfield.com
SUMMARY:Worship Service
DESCRIPTION:Join us every Sunday for worship! \nIn person at 904 Wheat Road in Winfield\, KS or on Facebook for our livestream!
URL:https://www.cbcwinfield.com/event/worship-service-2-2/2027-03-28/
LOCATION:Central Baptist Church\, 904 Wheat Rd\, Winfield\, KS\, 67156\, United States
CATEGORIES:Worship Services
ORGANIZER;CN="Central Baptist Church":MAILTO:office@cbcwinfield.com
END:VEVENT
BEGIN:VEVENT
DTSTART;TZID=America/Chicago:20270329T130000
DTEND;TZID=America/Chicago:20270329T140000
DTSTAMP:20260420T171822
CREATED:20230628T031732Z
LAST-MODIFIED:20230628T031732Z
UID:10000763-1806325200-1806328800@www.cbcwinfield.com
SUMMARY:Adult Bible Study
DESCRIPTION:
URL:https://www.cbcwinfield.com/event/adult-bible-study-3/2027-03-29/
LOCATION:Central Baptist Church\, 904 Wheat Rd\, Winfield\, KS\, 67156\, United States
CATEGORIES:Education
ORGANIZER;CN="Central Baptist Church":MAILTO:office@cbcwinfield.com
END:VEVENT
BEGIN:VEVENT
DTSTART;TZID=America/Chicago:20270331T180000
DTEND;TZID=America/Chicago:20270331T193000
DTSTAMP:20260420T171822
CREATED:20230627T195440Z
LAST-MODIFIED:20230628T033445Z
UID:10000234-1806516000-1806521400@www.cbcwinfield.com
SUMMARY:Youth Group
DESCRIPTION:CBCYouth welcomes all students in grades 6th – 12th!
URL:https://www.cbcwinfield.com/event/youth-group/2027-03-31/
LOCATION:Central Baptist Church\, 904 Wheat Rd\, Winfield\, KS\, 67156\, United States
CATEGORIES:CBCYouth
END:VEVENT
BEGIN:VEVENT
DTSTART;TZID=America/Chicago:20270331T180000
DTEND;TZID=America/Chicago:20270331T193000
DTSTAMP:20260420T171822
CREATED:20240429T210145Z
LAST-MODIFIED:20240429T210145Z
UID:10001531-1806516000-1806521400@www.cbcwinfield.com
SUMMARY:Mid-Week Bible Study
DESCRIPTION:
URL:https://www.cbcwinfield.com/event/mid-week-bible-study/2027-03-31/
LOCATION:Central Baptist Church\, 904 Wheat Rd\, Winfield\, KS\, 67156\, United States
CATEGORIES:CBCYouth,Education,Fellowship
ORGANIZER;CN="Central Baptist Church":MAILTO:office@cbcwinfield.com
END:VEVENT
BEGIN:VEVENT
DTSTART;TZID=America/Chicago:20270404T093000
DTEND;TZID=America/Chicago:20270404T103000
DTSTAMP:20260420T171822
CREATED:20230627T195030Z
LAST-MODIFIED:20230628T031930Z
UID:10001028-1806831000-1806834600@www.cbcwinfield.com
SUMMARY:Sunday School
DESCRIPTION:
URL:https://www.cbcwinfield.com/event/sunday-school/2027-04-04/
LOCATION:Central Baptist Church\, 904 Wheat Rd\, Winfield\, KS\, 67156\, United States
CATEGORIES:Education
ORGANIZER;CN="Central Baptist Church":MAILTO:office@cbcwinfield.com
END:VEVENT
BEGIN:VEVENT
DTSTART;TZID=America/Chicago:20270404T105000
DTEND;TZID=America/Chicago:20270404T115000
DTSTAMP:20260420T171822
CREATED:20230628T032028Z
LAST-MODIFIED:20230628T032029Z
UID:10000498-1806835800-1806839400@www.cbcwinfield.com
SUMMARY:Worship Service
DESCRIPTION:Join us every Sunday for worship! \nIn person at 904 Wheat Road in Winfield\, KS or on Facebook for our livestream!
URL:https://www.cbcwinfield.com/event/worship-service-2-2/2027-04-04/
LOCATION:Central Baptist Church\, 904 Wheat Rd\, Winfield\, KS\, 67156\, United States
CATEGORIES:Worship Services
ORGANIZER;CN="Central Baptist Church":MAILTO:office@cbcwinfield.com
END:VEVENT
BEGIN:VEVENT
DTSTART;TZID=America/Chicago:20270405T130000
DTEND;TZID=America/Chicago:20270405T140000
DTSTAMP:20260420T171822
CREATED:20230628T031732Z
LAST-MODIFIED:20230628T031732Z
UID:10000764-1806930000-1806933600@www.cbcwinfield.com
SUMMARY:Adult Bible Study
DESCRIPTION:
URL:https://www.cbcwinfield.com/event/adult-bible-study-3/2027-04-05/
LOCATION:Central Baptist Church\, 904 Wheat Rd\, Winfield\, KS\, 67156\, United States
CATEGORIES:Education
ORGANIZER;CN="Central Baptist Church":MAILTO:office@cbcwinfield.com
END:VEVENT
BEGIN:VEVENT
DTSTART;TZID=America/Chicago:20270407T180000
DTEND;TZID=America/Chicago:20270407T193000
DTSTAMP:20260420T171822
CREATED:20230627T195440Z
LAST-MODIFIED:20230628T033445Z
UID:10000235-1807120800-1807126200@www.cbcwinfield.com
SUMMARY:Youth Group
DESCRIPTION:CBCYouth welcomes all students in grades 6th – 12th!
URL:https://www.cbcwinfield.com/event/youth-group/2027-04-07/
LOCATION:Central Baptist Church\, 904 Wheat Rd\, Winfield\, KS\, 67156\, United States
CATEGORIES:CBCYouth
END:VEVENT
END:VCALENDAR