BEGIN:VCALENDAR
VERSION:2.0
PRODID:-//Central Baptist Church - ECPv6.15.20//NONSGML v1.0//EN
CALSCALE:GREGORIAN
METHOD:PUBLISH
X-WR-CALNAME:Central Baptist Church
X-ORIGINAL-URL:https://www.cbcwinfield.com
X-WR-CALDESC:Events for Central Baptist Church
REFRESH-INTERVAL;VALUE=DURATION:PT1H
X-Robots-Tag:noindex
X-PUBLISHED-TTL:PT1H
BEGIN:VTIMEZONE
TZID:America/Chicago
BEGIN:DAYLIGHT
TZOFFSETFROM:-0600
TZOFFSETTO:-0500
TZNAME:CDT
DTSTART:20240310T080000
END:DAYLIGHT
BEGIN:STANDARD
TZOFFSETFROM:-0500
TZOFFSETTO:-0600
TZNAME:CST
DTSTART:20241103T070000
END:STANDARD
BEGIN:DAYLIGHT
TZOFFSETFROM:-0600
TZOFFSETTO:-0500
TZNAME:CDT
DTSTART:20250309T080000
END:DAYLIGHT
BEGIN:STANDARD
TZOFFSETFROM:-0500
TZOFFSETTO:-0600
TZNAME:CST
DTSTART:20251102T070000
END:STANDARD
BEGIN:DAYLIGHT
TZOFFSETFROM:-0600
TZOFFSETTO:-0500
TZNAME:CDT
DTSTART:20260308T080000
END:DAYLIGHT
BEGIN:STANDARD
TZOFFSETFROM:-0500
TZOFFSETTO:-0600
TZNAME:CST
DTSTART:20261101T070000
END:STANDARD
END:VTIMEZONE
BEGIN:VEVENT
DTSTART;TZID=America/Chicago:20250326T180000
DTEND;TZID=America/Chicago:20250326T193000
DTSTAMP:20260420T160221
CREATED:20240429T210145Z
LAST-MODIFIED:20240429T210145Z
UID:10001426-1743012000-1743017400@www.cbcwinfield.com
SUMMARY:Mid-Week Bible Study
DESCRIPTION:
URL:https://www.cbcwinfield.com/event/mid-week-bible-study/2025-03-26/
LOCATION:Central Baptist Church\, 904 Wheat Rd\, Winfield\, KS\, 67156\, United States
CATEGORIES:CBCYouth,Education,Fellowship
ORGANIZER;CN="Central Baptist Church":MAILTO:office@cbcwinfield.com
END:VEVENT
BEGIN:VEVENT
DTSTART;TZID=America/Chicago:20250326T180000
DTEND;TZID=America/Chicago:20250326T193000
DTSTAMP:20260420T160221
CREATED:20230627T195440Z
LAST-MODIFIED:20230628T033445Z
UID:10000129-1743012000-1743017400@www.cbcwinfield.com
SUMMARY:Youth Group
DESCRIPTION:CBCYouth welcomes all students in grades 6th – 12th!
URL:https://www.cbcwinfield.com/event/youth-group/2025-03-26/
LOCATION:Central Baptist Church\, 904 Wheat Rd\, Winfield\, KS\, 67156\, United States
CATEGORIES:CBCYouth
END:VEVENT
BEGIN:VEVENT
DTSTART;TZID=America/Chicago:20250324T130000
DTEND;TZID=America/Chicago:20250324T140000
DTSTAMP:20260420T160221
CREATED:20230628T031732Z
LAST-MODIFIED:20230628T031732Z
UID:10000658-1742821200-1742824800@www.cbcwinfield.com
SUMMARY:Adult Bible Study
DESCRIPTION:
URL:https://www.cbcwinfield.com/event/adult-bible-study-3/2025-03-24/
LOCATION:Central Baptist Church\, 904 Wheat Rd\, Winfield\, KS\, 67156\, United States
CATEGORIES:Education
ORGANIZER;CN="Central Baptist Church":MAILTO:office@cbcwinfield.com
END:VEVENT
BEGIN:VEVENT
DTSTART;TZID=America/Chicago:20250323T105000
DTEND;TZID=America/Chicago:20250323T115000
DTSTAMP:20260420T160221
CREATED:20230628T032028Z
LAST-MODIFIED:20230628T032029Z
UID:10000392-1742727000-1742730600@www.cbcwinfield.com
SUMMARY:Worship Service
DESCRIPTION:Join us every Sunday for worship! \nIn person at 904 Wheat Road in Winfield\, KS or on Facebook for our livestream!
URL:https://www.cbcwinfield.com/event/worship-service-2-2/2025-03-23/
LOCATION:Central Baptist Church\, 904 Wheat Rd\, Winfield\, KS\, 67156\, United States
CATEGORIES:Worship Services
ORGANIZER;CN="Central Baptist Church":MAILTO:office@cbcwinfield.com
END:VEVENT
BEGIN:VEVENT
DTSTART;TZID=America/Chicago:20250323T093000
DTEND;TZID=America/Chicago:20250323T103000
DTSTAMP:20260420T160221
CREATED:20230627T195030Z
LAST-MODIFIED:20230628T031930Z
UID:10000922-1742722200-1742725800@www.cbcwinfield.com
SUMMARY:Sunday School
DESCRIPTION:
URL:https://www.cbcwinfield.com/event/sunday-school/2025-03-23/
LOCATION:Central Baptist Church\, 904 Wheat Rd\, Winfield\, KS\, 67156\, United States
CATEGORIES:Education
ORGANIZER;CN="Central Baptist Church":MAILTO:office@cbcwinfield.com
END:VEVENT
BEGIN:VEVENT
DTSTART;TZID=America/Chicago:20250319T180000
DTEND;TZID=America/Chicago:20250319T193000
DTSTAMP:20260420T160221
CREATED:20240429T210145Z
LAST-MODIFIED:20240429T210145Z
UID:10001425-1742407200-1742412600@www.cbcwinfield.com
SUMMARY:Mid-Week Bible Study
DESCRIPTION:
URL:https://www.cbcwinfield.com/event/mid-week-bible-study/2025-03-19/
LOCATION:Central Baptist Church\, 904 Wheat Rd\, Winfield\, KS\, 67156\, United States
CATEGORIES:CBCYouth,Education,Fellowship
ORGANIZER;CN="Central Baptist Church":MAILTO:office@cbcwinfield.com
END:VEVENT
BEGIN:VEVENT
DTSTART;TZID=America/Chicago:20250319T180000
DTEND;TZID=America/Chicago:20250319T193000
DTSTAMP:20260420T160221
CREATED:20230627T195440Z
LAST-MODIFIED:20230628T033445Z
UID:10000128-1742407200-1742412600@www.cbcwinfield.com
SUMMARY:Youth Group
DESCRIPTION:CBCYouth welcomes all students in grades 6th – 12th!
URL:https://www.cbcwinfield.com/event/youth-group/2025-03-19/
LOCATION:Central Baptist Church\, 904 Wheat Rd\, Winfield\, KS\, 67156\, United States
CATEGORIES:CBCYouth
END:VEVENT
BEGIN:VEVENT
DTSTART;TZID=America/Chicago:20250317T130000
DTEND;TZID=America/Chicago:20250317T140000
DTSTAMP:20260420T160221
CREATED:20230628T031732Z
LAST-MODIFIED:20230628T031732Z
UID:10000657-1742216400-1742220000@www.cbcwinfield.com
SUMMARY:Adult Bible Study
DESCRIPTION:
URL:https://www.cbcwinfield.com/event/adult-bible-study-3/2025-03-17/
LOCATION:Central Baptist Church\, 904 Wheat Rd\, Winfield\, KS\, 67156\, United States
CATEGORIES:Education
ORGANIZER;CN="Central Baptist Church":MAILTO:office@cbcwinfield.com
END:VEVENT
BEGIN:VEVENT
DTSTART;TZID=America/Chicago:20250316T105000
DTEND;TZID=America/Chicago:20250316T115000
DTSTAMP:20260420T160221
CREATED:20230628T032028Z
LAST-MODIFIED:20230628T032029Z
UID:10000391-1742122200-1742125800@www.cbcwinfield.com
SUMMARY:Worship Service
DESCRIPTION:Join us every Sunday for worship! \nIn person at 904 Wheat Road in Winfield\, KS or on Facebook for our livestream!
URL:https://www.cbcwinfield.com/event/worship-service-2-2/2025-03-16/
LOCATION:Central Baptist Church\, 904 Wheat Rd\, Winfield\, KS\, 67156\, United States
CATEGORIES:Worship Services
ORGANIZER;CN="Central Baptist Church":MAILTO:office@cbcwinfield.com
END:VEVENT
BEGIN:VEVENT
DTSTART;TZID=America/Chicago:20250316T093000
DTEND;TZID=America/Chicago:20250316T103000
DTSTAMP:20260420T160221
CREATED:20230627T195030Z
LAST-MODIFIED:20230628T031930Z
UID:10000921-1742117400-1742121000@www.cbcwinfield.com
SUMMARY:Sunday School
DESCRIPTION:
URL:https://www.cbcwinfield.com/event/sunday-school/2025-03-16/
LOCATION:Central Baptist Church\, 904 Wheat Rd\, Winfield\, KS\, 67156\, United States
CATEGORIES:Education
ORGANIZER;CN="Central Baptist Church":MAILTO:office@cbcwinfield.com
END:VEVENT
BEGIN:VEVENT
DTSTART;TZID=America/Chicago:20250312T180000
DTEND;TZID=America/Chicago:20250312T193000
DTSTAMP:20260420T160221
CREATED:20240429T210145Z
LAST-MODIFIED:20240429T210145Z
UID:10001424-1741802400-1741807800@www.cbcwinfield.com
SUMMARY:Mid-Week Bible Study
DESCRIPTION:
URL:https://www.cbcwinfield.com/event/mid-week-bible-study/2025-03-12/
LOCATION:Central Baptist Church\, 904 Wheat Rd\, Winfield\, KS\, 67156\, United States
CATEGORIES:CBCYouth,Education,Fellowship
ORGANIZER;CN="Central Baptist Church":MAILTO:office@cbcwinfield.com
END:VEVENT
BEGIN:VEVENT
DTSTART;TZID=America/Chicago:20250312T180000
DTEND;TZID=America/Chicago:20250312T193000
DTSTAMP:20260420T160221
CREATED:20230627T195440Z
LAST-MODIFIED:20230628T033445Z
UID:10000127-1741802400-1741807800@www.cbcwinfield.com
SUMMARY:Youth Group
DESCRIPTION:CBCYouth welcomes all students in grades 6th – 12th!
URL:https://www.cbcwinfield.com/event/youth-group/2025-03-12/
LOCATION:Central Baptist Church\, 904 Wheat Rd\, Winfield\, KS\, 67156\, United States
CATEGORIES:CBCYouth
END:VEVENT
BEGIN:VEVENT
DTSTART;TZID=America/Chicago:20250310T130000
DTEND;TZID=America/Chicago:20250310T140000
DTSTAMP:20260420T160221
CREATED:20230628T031732Z
LAST-MODIFIED:20230628T031732Z
UID:10000656-1741611600-1741615200@www.cbcwinfield.com
SUMMARY:Adult Bible Study
DESCRIPTION:
URL:https://www.cbcwinfield.com/event/adult-bible-study-3/2025-03-10/
LOCATION:Central Baptist Church\, 904 Wheat Rd\, Winfield\, KS\, 67156\, United States
CATEGORIES:Education
ORGANIZER;CN="Central Baptist Church":MAILTO:office@cbcwinfield.com
END:VEVENT
BEGIN:VEVENT
DTSTART;TZID=America/Chicago:20250309T105000
DTEND;TZID=America/Chicago:20250309T115000
DTSTAMP:20260420T160221
CREATED:20230628T032028Z
LAST-MODIFIED:20230628T032029Z
UID:10000390-1741517400-1741521000@www.cbcwinfield.com
SUMMARY:Worship Service
DESCRIPTION:Join us every Sunday for worship! \nIn person at 904 Wheat Road in Winfield\, KS or on Facebook for our livestream!
URL:https://www.cbcwinfield.com/event/worship-service-2-2/2025-03-09/
LOCATION:Central Baptist Church\, 904 Wheat Rd\, Winfield\, KS\, 67156\, United States
CATEGORIES:Worship Services
ORGANIZER;CN="Central Baptist Church":MAILTO:office@cbcwinfield.com
END:VEVENT
BEGIN:VEVENT
DTSTART;TZID=America/Chicago:20250309T093000
DTEND;TZID=America/Chicago:20250309T103000
DTSTAMP:20260420T160221
CREATED:20230627T195030Z
LAST-MODIFIED:20230628T031930Z
UID:10000920-1741512600-1741516200@www.cbcwinfield.com
SUMMARY:Sunday School
DESCRIPTION:
URL:https://www.cbcwinfield.com/event/sunday-school/2025-03-09/
LOCATION:Central Baptist Church\, 904 Wheat Rd\, Winfield\, KS\, 67156\, United States
CATEGORIES:Education
ORGANIZER;CN="Central Baptist Church":MAILTO:office@cbcwinfield.com
END:VEVENT
BEGIN:VEVENT
DTSTART;TZID=America/Chicago:20250305T180000
DTEND;TZID=America/Chicago:20250305T193000
DTSTAMP:20260420T160221
CREATED:20240429T210145Z
LAST-MODIFIED:20240429T210145Z
UID:10001423-1741197600-1741203000@www.cbcwinfield.com
SUMMARY:Mid-Week Bible Study
DESCRIPTION:
URL:https://www.cbcwinfield.com/event/mid-week-bible-study/2025-03-05/
LOCATION:Central Baptist Church\, 904 Wheat Rd\, Winfield\, KS\, 67156\, United States
CATEGORIES:CBCYouth,Education,Fellowship
ORGANIZER;CN="Central Baptist Church":MAILTO:office@cbcwinfield.com
END:VEVENT
BEGIN:VEVENT
DTSTART;TZID=America/Chicago:20250305T180000
DTEND;TZID=America/Chicago:20250305T193000
DTSTAMP:20260420T160221
CREATED:20230627T195440Z
LAST-MODIFIED:20230628T033445Z
UID:10000126-1741197600-1741203000@www.cbcwinfield.com
SUMMARY:Youth Group
DESCRIPTION:CBCYouth welcomes all students in grades 6th – 12th!
URL:https://www.cbcwinfield.com/event/youth-group/2025-03-05/
LOCATION:Central Baptist Church\, 904 Wheat Rd\, Winfield\, KS\, 67156\, United States
CATEGORIES:CBCYouth
END:VEVENT
BEGIN:VEVENT
DTSTART;TZID=America/Chicago:20250303T130000
DTEND;TZID=America/Chicago:20250303T140000
DTSTAMP:20260420T160221
CREATED:20230628T031732Z
LAST-MODIFIED:20230628T031732Z
UID:10000655-1741006800-1741010400@www.cbcwinfield.com
SUMMARY:Adult Bible Study
DESCRIPTION:
URL:https://www.cbcwinfield.com/event/adult-bible-study-3/2025-03-03/
LOCATION:Central Baptist Church\, 904 Wheat Rd\, Winfield\, KS\, 67156\, United States
CATEGORIES:Education
ORGANIZER;CN="Central Baptist Church":MAILTO:office@cbcwinfield.com
END:VEVENT
BEGIN:VEVENT
DTSTART;TZID=America/Chicago:20250302T105000
DTEND;TZID=America/Chicago:20250302T115000
DTSTAMP:20260420T160221
CREATED:20230628T032028Z
LAST-MODIFIED:20230628T032029Z
UID:10000389-1740912600-1740916200@www.cbcwinfield.com
SUMMARY:Worship Service
DESCRIPTION:Join us every Sunday for worship! \nIn person at 904 Wheat Road in Winfield\, KS or on Facebook for our livestream!
URL:https://www.cbcwinfield.com/event/worship-service-2-2/2025-03-02/
LOCATION:Central Baptist Church\, 904 Wheat Rd\, Winfield\, KS\, 67156\, United States
CATEGORIES:Worship Services
ORGANIZER;CN="Central Baptist Church":MAILTO:office@cbcwinfield.com
END:VEVENT
BEGIN:VEVENT
DTSTART;TZID=America/Chicago:20250302T093000
DTEND;TZID=America/Chicago:20250302T103000
DTSTAMP:20260420T160221
CREATED:20230627T195030Z
LAST-MODIFIED:20230628T031930Z
UID:10000919-1740907800-1740911400@www.cbcwinfield.com
SUMMARY:Sunday School
DESCRIPTION:
URL:https://www.cbcwinfield.com/event/sunday-school/2025-03-02/
LOCATION:Central Baptist Church\, 904 Wheat Rd\, Winfield\, KS\, 67156\, United States
CATEGORIES:Education
ORGANIZER;CN="Central Baptist Church":MAILTO:office@cbcwinfield.com
END:VEVENT
BEGIN:VEVENT
DTSTART;TZID=America/Chicago:20250226T180000
DTEND;TZID=America/Chicago:20250226T193000
DTSTAMP:20260420T160221
CREATED:20240429T210145Z
LAST-MODIFIED:20240429T210145Z
UID:10001422-1740592800-1740598200@www.cbcwinfield.com
SUMMARY:Mid-Week Bible Study
DESCRIPTION:
URL:https://www.cbcwinfield.com/event/mid-week-bible-study/2025-02-26/
LOCATION:Central Baptist Church\, 904 Wheat Rd\, Winfield\, KS\, 67156\, United States
CATEGORIES:CBCYouth,Education,Fellowship
ORGANIZER;CN="Central Baptist Church":MAILTO:office@cbcwinfield.com
END:VEVENT
BEGIN:VEVENT
DTSTART;TZID=America/Chicago:20250226T180000
DTEND;TZID=America/Chicago:20250226T193000
DTSTAMP:20260420T160221
CREATED:20230627T195440Z
LAST-MODIFIED:20230628T033445Z
UID:10000125-1740592800-1740598200@www.cbcwinfield.com
SUMMARY:Youth Group
DESCRIPTION:CBCYouth welcomes all students in grades 6th – 12th!
URL:https://www.cbcwinfield.com/event/youth-group/2025-02-26/
LOCATION:Central Baptist Church\, 904 Wheat Rd\, Winfield\, KS\, 67156\, United States
CATEGORIES:CBCYouth
END:VEVENT
BEGIN:VEVENT
DTSTART;TZID=America/Chicago:20250224T130000
DTEND;TZID=America/Chicago:20250224T140000
DTSTAMP:20260420T160221
CREATED:20230628T031732Z
LAST-MODIFIED:20230628T031732Z
UID:10000654-1740402000-1740405600@www.cbcwinfield.com
SUMMARY:Adult Bible Study
DESCRIPTION:
URL:https://www.cbcwinfield.com/event/adult-bible-study-3/2025-02-24/
LOCATION:Central Baptist Church\, 904 Wheat Rd\, Winfield\, KS\, 67156\, United States
CATEGORIES:Education
ORGANIZER;CN="Central Baptist Church":MAILTO:office@cbcwinfield.com
END:VEVENT
BEGIN:VEVENT
DTSTART;TZID=America/Chicago:20250223T105000
DTEND;TZID=America/Chicago:20250223T115000
DTSTAMP:20260420T160221
CREATED:20230628T032028Z
LAST-MODIFIED:20230628T032029Z
UID:10000388-1740307800-1740311400@www.cbcwinfield.com
SUMMARY:Worship Service
DESCRIPTION:Join us every Sunday for worship! \nIn person at 904 Wheat Road in Winfield\, KS or on Facebook for our livestream!
URL:https://www.cbcwinfield.com/event/worship-service-2-2/2025-02-23/
LOCATION:Central Baptist Church\, 904 Wheat Rd\, Winfield\, KS\, 67156\, United States
CATEGORIES:Worship Services
ORGANIZER;CN="Central Baptist Church":MAILTO:office@cbcwinfield.com
END:VEVENT
BEGIN:VEVENT
DTSTART;TZID=America/Chicago:20250223T093000
DTEND;TZID=America/Chicago:20250223T103000
DTSTAMP:20260420T160221
CREATED:20230627T195030Z
LAST-MODIFIED:20230628T031930Z
UID:10000918-1740303000-1740306600@www.cbcwinfield.com
SUMMARY:Sunday School
DESCRIPTION:
URL:https://www.cbcwinfield.com/event/sunday-school/2025-02-23/
LOCATION:Central Baptist Church\, 904 Wheat Rd\, Winfield\, KS\, 67156\, United States
CATEGORIES:Education
ORGANIZER;CN="Central Baptist Church":MAILTO:office@cbcwinfield.com
END:VEVENT
BEGIN:VEVENT
DTSTART;TZID=America/Chicago:20250219T180000
DTEND;TZID=America/Chicago:20250219T193000
DTSTAMP:20260420T160221
CREATED:20240429T210145Z
LAST-MODIFIED:20240429T210145Z
UID:10001421-1739988000-1739993400@www.cbcwinfield.com
SUMMARY:Mid-Week Bible Study
DESCRIPTION:
URL:https://www.cbcwinfield.com/event/mid-week-bible-study/2025-02-19/
LOCATION:Central Baptist Church\, 904 Wheat Rd\, Winfield\, KS\, 67156\, United States
CATEGORIES:CBCYouth,Education,Fellowship
ORGANIZER;CN="Central Baptist Church":MAILTO:office@cbcwinfield.com
END:VEVENT
BEGIN:VEVENT
DTSTART;TZID=America/Chicago:20250219T180000
DTEND;TZID=America/Chicago:20250219T193000
DTSTAMP:20260420T160221
CREATED:20230627T195440Z
LAST-MODIFIED:20230628T033445Z
UID:10000124-1739988000-1739993400@www.cbcwinfield.com
SUMMARY:Youth Group
DESCRIPTION:CBCYouth welcomes all students in grades 6th – 12th!
URL:https://www.cbcwinfield.com/event/youth-group/2025-02-19/
LOCATION:Central Baptist Church\, 904 Wheat Rd\, Winfield\, KS\, 67156\, United States
CATEGORIES:CBCYouth
END:VEVENT
BEGIN:VEVENT
DTSTART;TZID=America/Chicago:20250217T130000
DTEND;TZID=America/Chicago:20250217T140000
DTSTAMP:20260420T160221
CREATED:20230628T031732Z
LAST-MODIFIED:20230628T031732Z
UID:10000653-1739797200-1739800800@www.cbcwinfield.com
SUMMARY:Adult Bible Study
DESCRIPTION:
URL:https://www.cbcwinfield.com/event/adult-bible-study-3/2025-02-17/
LOCATION:Central Baptist Church\, 904 Wheat Rd\, Winfield\, KS\, 67156\, United States
CATEGORIES:Education
ORGANIZER;CN="Central Baptist Church":MAILTO:office@cbcwinfield.com
END:VEVENT
BEGIN:VEVENT
DTSTART;TZID=America/Chicago:20250216T105000
DTEND;TZID=America/Chicago:20250216T115000
DTSTAMP:20260420T160221
CREATED:20230628T032028Z
LAST-MODIFIED:20230628T032029Z
UID:10000387-1739703000-1739706600@www.cbcwinfield.com
SUMMARY:Worship Service
DESCRIPTION:Join us every Sunday for worship! \nIn person at 904 Wheat Road in Winfield\, KS or on Facebook for our livestream!
URL:https://www.cbcwinfield.com/event/worship-service-2-2/2025-02-16/
LOCATION:Central Baptist Church\, 904 Wheat Rd\, Winfield\, KS\, 67156\, United States
CATEGORIES:Worship Services
ORGANIZER;CN="Central Baptist Church":MAILTO:office@cbcwinfield.com
END:VEVENT
BEGIN:VEVENT
DTSTART;TZID=America/Chicago:20250216T093000
DTEND;TZID=America/Chicago:20250216T103000
DTSTAMP:20260420T160221
CREATED:20230627T195030Z
LAST-MODIFIED:20230628T031930Z
UID:10000917-1739698200-1739701800@www.cbcwinfield.com
SUMMARY:Sunday School
DESCRIPTION:
URL:https://www.cbcwinfield.com/event/sunday-school/2025-02-16/
LOCATION:Central Baptist Church\, 904 Wheat Rd\, Winfield\, KS\, 67156\, United States
CATEGORIES:Education
ORGANIZER;CN="Central Baptist Church":MAILTO:office@cbcwinfield.com
END:VEVENT
END:VCALENDAR